BEGIN:VCALENDAR
VERSION:2.0
PRODID:-//JUNCTION UNDERGROUND - ECPv6.15.14//NONSGML v1.0//EN
CALSCALE:GREGORIAN
METHOD:PUBLISH
X-ORIGINAL-URL:https://junctionunderground.ca
X-WR-CALDESC:Events for JUNCTION UNDERGROUND
REFRESH-INTERVAL;VALUE=DURATION:PT1H
X-Robots-Tag:noindex
X-PUBLISHED-TTL:PT1H
BEGIN:VTIMEZONE
TZID:America/Toronto
BEGIN:DAYLIGHT
TZOFFSETFROM:-0500
TZOFFSETTO:-0400
TZNAME:EDT
DTSTART:20230312T070000
END:DAYLIGHT
BEGIN:STANDARD
TZOFFSETFROM:-0400
TZOFFSETTO:-0500
TZNAME:EST
DTSTART:20231105T060000
END:STANDARD
BEGIN:DAYLIGHT
TZOFFSETFROM:-0500
TZOFFSETTO:-0400
TZNAME:EDT
DTSTART:20240310T070000
END:DAYLIGHT
BEGIN:STANDARD
TZOFFSETFROM:-0400
TZOFFSETTO:-0500
TZNAME:EST
DTSTART:20241103T060000
END:STANDARD
BEGIN:DAYLIGHT
TZOFFSETFROM:-0500
TZOFFSETTO:-0400
TZNAME:EDT
DTSTART:20250309T070000
END:DAYLIGHT
BEGIN:STANDARD
TZOFFSETFROM:-0400
TZOFFSETTO:-0500
TZNAME:EST
DTSTART:20251102T060000
END:STANDARD
END:VTIMEZONE
BEGIN:VEVENT
DTSTART;TZID=America/Toronto:20240810T200000
DTEND;TZID=America/Toronto:20240811T020000
DTSTAMP:20260422T160657
CREATED:20240808T013659Z
LAST-MODIFIED:20240808T145022Z
UID:10000005-1723320000-1723341600@junctionunderground.ca
SUMMARY:Sugar Shack Burlesque
DESCRIPTION:🎭✨ Step into the Sweetest Fantasy! 🍬🔥 \nJoin us this Saturday at the Junction Underground for an unforgettable evening of glitz\, glamour\, and seduction with the Sugar Shack Burlesque! 🎶💃 Featuring Bella Canto\, Cherry Pomodoro\, Jojo Sugar Cookies\, Ms. Hadarling\, Optimal Tease\, Saint Stella\, Sidney Quest\, and Texas Rose. Produced & hosted by Sugar Holiday \nBuy Tickets: $22.63 \nImmerse yourself in a world where classic elegance meets modern sass. Our dazzling performers are ready to captivate you with their enchanting routines that promise to be as sweet as sugar and twice as spicy. 💋✨ \nDress to impress and prepare for a night full of surprises\, laughter\, and unforgettable memories. Whether you’re a burlesque aficionado or a curious newcomer\, the Sugar Shack promises a spectacular experience you won’t want to miss! 🌟 \nDoors open at 8 PM\, Show starts at 9 PM. $30 at Door.
URL:https://junctionunderground.ca/event/sugar-shack-burlesque/
LOCATION:Junction Underground\, 2907 Dundas St W\, Toronto\, ON\, M6P 1Z1
CATEGORIES:Burlesque
ATTACH;FMTTYPE=image/jpeg:https://junctionunderground.ca/wp-content/uploads/2024/08/sugar-shack-burlesque-1.jpg
END:VEVENT
END:VCALENDAR