BEGIN:VCALENDAR
VERSION:2.0
PRODID:-//JUNCTION UNDERGROUND - ECPv6.15.14//NONSGML v1.0//EN
CALSCALE:GREGORIAN
METHOD:PUBLISH
X-WR-CALNAME:JUNCTION UNDERGROUND
X-ORIGINAL-URL:https://junctionunderground.ca
X-WR-CALDESC:Events for JUNCTION UNDERGROUND
REFRESH-INTERVAL;VALUE=DURATION:PT1H
X-Robots-Tag:noindex
X-PUBLISHED-TTL:PT1H
BEGIN:VTIMEZONE
TZID:America/Toronto
BEGIN:DAYLIGHT
TZOFFSETFROM:-0500
TZOFFSETTO:-0400
TZNAME:EDT
DTSTART:20230312T070000
END:DAYLIGHT
BEGIN:STANDARD
TZOFFSETFROM:-0400
TZOFFSETTO:-0500
TZNAME:EST
DTSTART:20231105T060000
END:STANDARD
BEGIN:DAYLIGHT
TZOFFSETFROM:-0500
TZOFFSETTO:-0400
TZNAME:EDT
DTSTART:20240310T070000
END:DAYLIGHT
BEGIN:STANDARD
TZOFFSETFROM:-0400
TZOFFSETTO:-0500
TZNAME:EST
DTSTART:20241103T060000
END:STANDARD
BEGIN:DAYLIGHT
TZOFFSETFROM:-0500
TZOFFSETTO:-0400
TZNAME:EDT
DTSTART:20250309T070000
END:DAYLIGHT
BEGIN:STANDARD
TZOFFSETFROM:-0400
TZOFFSETTO:-0500
TZNAME:EST
DTSTART:20251102T060000
END:STANDARD
END:VTIMEZONE
BEGIN:VEVENT
DTSTART;TZID=America/Toronto:20241214T200000
DTEND;TZID=America/Toronto:20241214T200000
DTSTAMP:20260422T085659
CREATED:20241211T234047Z
LAST-MODIFIED:20241211T234059Z
UID:10000394-1734206400-1734206400@junctionunderground.ca
SUMMARY:The Sugar Shack is back!
DESCRIPTION:THIS is burlesque. Glamour\, humour\, pop culture references\, flamingos!?! Get your tickets today for $20 and join us on December 14 for our holiday-inspired show. Tickets available at SugarHolidayBurlesque.com
URL:https://junctionunderground.ca/event/the-sugar-shack-is-back/
LOCATION:Junction Underground\, 2907 Dundas St W\, Toronto\, ON\, M6P 1Z1
CATEGORIES:Burlesque
ATTACH;FMTTYPE=image/jpeg:https://junctionunderground.ca/wp-content/uploads/2024/12/Screenshot-2024-12-11-at-6.33.42 PM.jpg
END:VEVENT
END:VCALENDAR