BEGIN:VCALENDAR
VERSION:2.0
PRODID:-//JUNCTION UNDERGROUND - ECPv6.15.14//NONSGML v1.0//EN
CALSCALE:GREGORIAN
METHOD:PUBLISH
X-ORIGINAL-URL:https://junctionunderground.ca
X-WR-CALDESC:Events for JUNCTION UNDERGROUND
REFRESH-INTERVAL;VALUE=DURATION:PT1H
X-Robots-Tag:noindex
X-PUBLISHED-TTL:PT1H
BEGIN:VTIMEZONE
TZID:America/Toronto
BEGIN:DAYLIGHT
TZOFFSETFROM:-0500
TZOFFSETTO:-0400
TZNAME:EDT
DTSTART:20240310T070000
END:DAYLIGHT
BEGIN:STANDARD
TZOFFSETFROM:-0400
TZOFFSETTO:-0500
TZNAME:EST
DTSTART:20241103T060000
END:STANDARD
BEGIN:DAYLIGHT
TZOFFSETFROM:-0500
TZOFFSETTO:-0400
TZNAME:EDT
DTSTART:20250309T070000
END:DAYLIGHT
BEGIN:STANDARD
TZOFFSETFROM:-0400
TZOFFSETTO:-0500
TZNAME:EST
DTSTART:20251102T060000
END:STANDARD
BEGIN:DAYLIGHT
TZOFFSETFROM:-0500
TZOFFSETTO:-0400
TZNAME:EDT
DTSTART:20260308T070000
END:DAYLIGHT
BEGIN:STANDARD
TZOFFSETFROM:-0400
TZOFFSETTO:-0500
TZNAME:EST
DTSTART:20261101T060000
END:STANDARD
END:VTIMEZONE
BEGIN:VEVENT
DTSTART;TZID=America/Toronto:20250913T180000
DTEND;TZID=America/Toronto:20250913T210000
DTSTAMP:20260419T173146
CREATED:20250908T212643Z
LAST-MODIFIED:20250908T212949Z
UID:10000852-1757786400-1757797200@junctionunderground.ca
SUMMARY:The Sugar Shack - A Burlesque Show!
DESCRIPTION:We’re back from Summer Break and ready to show you our tan lines! Tickets are a hot commodity for this one so be sure to get yours before they’re gone at SugarHolidayBurlesque.com\nDoors at 6pm \nShow at 7pm \nTickets: $20 online or $30 at the door
URL:https://junctionunderground.ca/event/the-sugar-shack-a-burlesque-show/
LOCATION:Junction Underground\, 2907 Dundas St W\, Toronto\, ON\, M6P 1Z1
CATEGORIES:Burlesque
ATTACH;FMTTYPE=image/jpeg:https://junctionunderground.ca/wp-content/uploads/2025/09/the-sugar-shack-a-burlesque-show-junction-screensh.webp
END:VEVENT
END:VCALENDAR