BEGIN:VCALENDAR
VERSION:2.0
PRODID:-//JUNCTION UNDERGROUND - ECPv6.15.14//NONSGML v1.0//EN
CALSCALE:GREGORIAN
METHOD:PUBLISH
X-WR-CALNAME:JUNCTION UNDERGROUND
X-ORIGINAL-URL:https://junctionunderground.ca
X-WR-CALDESC:Events for JUNCTION UNDERGROUND
REFRESH-INTERVAL;VALUE=DURATION:PT1H
X-Robots-Tag:noindex
X-PUBLISHED-TTL:PT1H
BEGIN:VTIMEZONE
TZID:America/Toronto
BEGIN:DAYLIGHT
TZOFFSETFROM:-0500
TZOFFSETTO:-0400
TZNAME:EDT
DTSTART:20240310T070000
END:DAYLIGHT
BEGIN:STANDARD
TZOFFSETFROM:-0400
TZOFFSETTO:-0500
TZNAME:EST
DTSTART:20241103T060000
END:STANDARD
BEGIN:DAYLIGHT
TZOFFSETFROM:-0500
TZOFFSETTO:-0400
TZNAME:EDT
DTSTART:20250309T070000
END:DAYLIGHT
BEGIN:STANDARD
TZOFFSETFROM:-0400
TZOFFSETTO:-0500
TZNAME:EST
DTSTART:20251102T060000
END:STANDARD
BEGIN:DAYLIGHT
TZOFFSETFROM:-0500
TZOFFSETTO:-0400
TZNAME:EDT
DTSTART:20260308T070000
END:DAYLIGHT
BEGIN:STANDARD
TZOFFSETFROM:-0400
TZOFFSETTO:-0500
TZNAME:EST
DTSTART:20261101T060000
END:STANDARD
BEGIN:DAYLIGHT
TZOFFSETFROM:-0500
TZOFFSETTO:-0400
TZNAME:EDT
DTSTART:20270314T070000
END:DAYLIGHT
BEGIN:STANDARD
TZOFFSETFROM:-0400
TZOFFSETTO:-0500
TZNAME:EST
DTSTART:20271107T060000
END:STANDARD
END:VTIMEZONE
BEGIN:VEVENT
DTSTART;TZID=America/Toronto:20250712T180000
DTEND;TZID=America/Toronto:20250712T210000
DTSTAMP:20260422T192451
CREATED:20250703T175750Z
LAST-MODIFIED:20250703T175750Z
UID:10000757-1752343200-1752354000@junctionunderground.ca
SUMMARY:Sugar Holiday Burlesque @ JUNCTION UNDERGROUND
DESCRIPTION:TORONTO!  \nJoin us on Saturday\, July 12th for The Sugar Shack at Junction Underground! We have 12 acts on tap for you\, including two duets! Meet some of the city’s newest performers and some of Toronto’s most established burlesque entertainers\, including the Icon of this year’s Atlantic Burlesque Festival @tanyacheex Guest host @saintstella will be your guide for this evening of fun!  \nBUY TICKETS \nJUNCTION UNDERGROUND\n📍2907 DUNDAS ST W
URL:https://junctionunderground.ca/event/sugar-holiday-burlesque-junction-underground/
LOCATION:Junction Underground\, 2907 Dundas St W\, Toronto\, ON\, M6P 1Z1
CATEGORIES:Burlesque
ATTACH;FMTTYPE=image/jpeg:https://junctionunderground.ca/wp-content/uploads/2025/07/auto-draft-junction-resized-sugarshack--22july12-f.webp
END:VEVENT
BEGIN:VEVENT
DTSTART;TZID=America/Toronto:20250913T180000
DTEND;TZID=America/Toronto:20250913T210000
DTSTAMP:20260422T192451
CREATED:20250908T212643Z
LAST-MODIFIED:20250908T212949Z
UID:10000852-1757786400-1757797200@junctionunderground.ca
SUMMARY:The Sugar Shack - A Burlesque Show!
DESCRIPTION:We’re back from Summer Break and ready to show you our tan lines! Tickets are a hot commodity for this one so be sure to get yours before they’re gone at SugarHolidayBurlesque.com\nDoors at 6pm \nShow at 7pm \nTickets: $20 online or $30 at the door
URL:https://junctionunderground.ca/event/the-sugar-shack-a-burlesque-show/
LOCATION:Junction Underground\, 2907 Dundas St W\, Toronto\, ON\, M6P 1Z1
CATEGORIES:Burlesque
ATTACH;FMTTYPE=image/jpeg:https://junctionunderground.ca/wp-content/uploads/2025/09/the-sugar-shack-a-burlesque-show-junction-screensh.webp
END:VEVENT
BEGIN:VEVENT
DTSTART;TZID=America/Toronto:20260117T180000
DTEND;TZID=America/Toronto:20260117T210000
DTSTAMP:20260422T192451
CREATED:20260112T213104Z
LAST-MODIFIED:20260113T191504Z
UID:10001165-1768672800-1768683600@junctionunderground.ca
SUMMARY:Sugar Shack Burlesque!
DESCRIPTION:💖 NO JANUARY BLUES HERE! 💖\nThis Saturday\, January 17\, we’re serving sweet\, sultry\, and spectacular with a stacked lineup of jaw-dropping burlesque\, drag\, and cabaret delights. \n🔥 FEATURING:\n💄 Boyjeenis\n💄 Crispie Tits\n💄 Dottie Dangerfield\n💄 Kuya Atay\n💄 Maggie Le Munch\n💄 Saint Stella\n💄 Lacy Jane\n💄 Snackbaby Thicccums\n💄 Sweets \n🎤 Hosted by the iconic Sugar Holiday \nExpect bold performances\, glittering costumes\, body-positive magic\, and unapologetic glamour from start to finish. This is your permission slip to escape winter\, sip a drink\, and indulge your sweet tooth 🍬 \n🕕 Doors: 6PM\n🎭 Show: 7PM\n📍 Junction Underground\n2907 Dundas St W\, Toronto \n🎟️ Tickets:\n$20–$30 online\n$30 at the door\n👉 SugarHolidayBurlesque.com \nDress cute\, bring your crew\, and get ready for a night that’s as delicious as it is unforgettable 💋
URL:https://junctionunderground.ca/event/sugar-shack-burlesque-2/
LOCATION:Junction Underground\, 2907 Dundas St W\, Toronto\, ON\, M6P 1Z1
CATEGORIES:Burlesque
ATTACH;FMTTYPE=image/jpeg:https://junctionunderground.ca/wp-content/uploads/2026/01/sugar-shack-burlesque-junction-undergrou.webp
END:VEVENT
BEGIN:VEVENT
DTSTART;TZID=America/Toronto:20260221T180000
DTEND;TZID=America/Toronto:20260221T210000
DTSTAMP:20260422T192451
CREATED:20260205T190343Z
LAST-MODIFIED:20260216T195231Z
UID:10001182-1771696800-1771707600@junctionunderground.ca
SUMMARY:Sugar Shack Burlesque!
DESCRIPTION:Saturday\, February 21 is The Sugar Shack💋✨ \nSugar Shack Burlesque is bringing glamour\, tease\, comedy\, and pure stage magic to Junction Underground — and this cast is STACKED. \nFeathers\, rhinestones\, drama\, seduction\, and a whole lotta personality 💄🔥\nFeaturing a dazzling lineup of performers who know exactly how to work a room. \n🎭 Hosted by Saint Stella\n💫 Starring an unforgettable cast of burlesque\, drag\, and variety brilliance \n🗓 Saturday\, Feb 21\n🚪 Doors 6PM | 🎬 Show 7PM\n📍 Junction Underground\n🎟 $20/$30 online • $30 at the door\n🌐 SugarHolidayBurlesque.com \nDate night\, girls’ night\, chaos night — this is the one you dress up for.
URL:https://junctionunderground.ca/event/sugar-shack-burlesque-3/
LOCATION:Junction Underground\, 2907 Dundas St W\, Toronto\, ON\, M6P 1Z1
CATEGORIES:Burlesque
ATTACH;FMTTYPE=image/jpeg:https://junctionunderground.ca/wp-content/uploads/2026/02/sugar-shack-burlesque-junction-undergrou-e1770318301838.webp
END:VEVENT
END:VCALENDAR