BEGIN:VCALENDAR
VERSION:2.0
PRODID:-//JUNCTION UNDERGROUND - ECPv6.15.14//NONSGML v1.0//EN
CALSCALE:GREGORIAN
METHOD:PUBLISH
X-WR-CALNAME:JUNCTION UNDERGROUND
X-ORIGINAL-URL:https://junctionunderground.ca
X-WR-CALDESC:Events for JUNCTION UNDERGROUND
REFRESH-INTERVAL;VALUE=DURATION:PT1H
X-Robots-Tag:noindex
X-PUBLISHED-TTL:PT1H
BEGIN:VTIMEZONE
TZID:America/Toronto
BEGIN:DAYLIGHT
TZOFFSETFROM:-0500
TZOFFSETTO:-0400
TZNAME:EDT
DTSTART:20240310T070000
END:DAYLIGHT
BEGIN:STANDARD
TZOFFSETFROM:-0400
TZOFFSETTO:-0500
TZNAME:EST
DTSTART:20241103T060000
END:STANDARD
BEGIN:DAYLIGHT
TZOFFSETFROM:-0500
TZOFFSETTO:-0400
TZNAME:EDT
DTSTART:20250309T070000
END:DAYLIGHT
BEGIN:STANDARD
TZOFFSETFROM:-0400
TZOFFSETTO:-0500
TZNAME:EST
DTSTART:20251102T060000
END:STANDARD
BEGIN:DAYLIGHT
TZOFFSETFROM:-0500
TZOFFSETTO:-0400
TZNAME:EDT
DTSTART:20260308T070000
END:DAYLIGHT
BEGIN:STANDARD
TZOFFSETFROM:-0400
TZOFFSETTO:-0500
TZNAME:EST
DTSTART:20261101T060000
END:STANDARD
END:VTIMEZONE
BEGIN:VEVENT
DTSTART;TZID=America/Toronto:20251018T200000
DTEND;TZID=America/Toronto:20251019T020000
DTSTAMP:20260425T094830
CREATED:20251009T170018Z
LAST-MODIFIED:20251230T164347Z
UID:10001127-1760817600-1760839200@junctionunderground.ca
SUMMARY:Retro Video Dance Party
DESCRIPTION:🎶 Join us Saturday\, Oct 18th for the RETRO VIDEO DANCE PARTY — a night packed with 80’s post-punk\, 90’s Britpop\, indie bangers and all the nostalgia you can handle ⚡💿 NO COVER!!! \n🎥 Think: dancing silhouettes\, vintage visuals\,l energy\, and a killer crowd that knows every lyric to Love Will Tear Us Apart and Wonderwall. \n📍 2907 Dundas St W\, Toronto\n🕗 Doors at 8PM — No Cover!
URL:https://junctionunderground.ca/event/retro-video-dance-party-4/
LOCATION:Junction Underground\, 2907 Dundas St W\, Toronto\, ON\, M6P 1Z1
CATEGORIES:Dance Party
ATTACH;FMTTYPE=image/jpeg:https://junctionunderground.ca/wp-content/uploads/2025/10/retro-video-dance-party-junction-screenshot-2025-1.webp
END:VEVENT
END:VCALENDAR