BEGIN:VCALENDAR
VERSION:2.0
PRODID:-//JUNCTION UNDERGROUND - ECPv6.15.14//NONSGML v1.0//EN
CALSCALE:GREGORIAN
METHOD:PUBLISH
X-WR-CALNAME:JUNCTION UNDERGROUND
X-ORIGINAL-URL:https://junctionunderground.ca
X-WR-CALDESC:Events for JUNCTION UNDERGROUND
REFRESH-INTERVAL;VALUE=DURATION:PT1H
X-Robots-Tag:noindex
X-PUBLISHED-TTL:PT1H
BEGIN:VTIMEZONE
TZID:America/Toronto
BEGIN:DAYLIGHT
TZOFFSETFROM:-0500
TZOFFSETTO:-0400
TZNAME:EDT
DTSTART:20240310T070000
END:DAYLIGHT
BEGIN:STANDARD
TZOFFSETFROM:-0400
TZOFFSETTO:-0500
TZNAME:EST
DTSTART:20241103T060000
END:STANDARD
BEGIN:DAYLIGHT
TZOFFSETFROM:-0500
TZOFFSETTO:-0400
TZNAME:EDT
DTSTART:20250309T070000
END:DAYLIGHT
BEGIN:STANDARD
TZOFFSETFROM:-0400
TZOFFSETTO:-0500
TZNAME:EST
DTSTART:20251102T060000
END:STANDARD
BEGIN:DAYLIGHT
TZOFFSETFROM:-0500
TZOFFSETTO:-0400
TZNAME:EDT
DTSTART:20260308T070000
END:DAYLIGHT
BEGIN:STANDARD
TZOFFSETFROM:-0400
TZOFFSETTO:-0500
TZNAME:EST
DTSTART:20261101T060000
END:STANDARD
END:VTIMEZONE
BEGIN:VEVENT
DTSTART;TZID=America/Toronto:20251115T200000
DTEND;TZID=America/Toronto:20251116T020000
DTSTAMP:20260425T080440
CREATED:20251110T145239Z
LAST-MODIFIED:20251230T163431Z
UID:10001139-1763236800-1763258400@junctionunderground.ca
SUMMARY:Retro Brit Pop Video Dance Party (NO COVER)
DESCRIPTION:🇬🇧✨ Saturday\, Nov 15th is BRIT POP VIDEO DANCE PARTY ✨🇬🇧 \nGet ready to relive the golden era of Brit Pop anthems and underground vibes!\nJoin us Saturday\, November 15 at The Junction Underground for a night of iconic tunes from Oasis\, Depeche Mode\, The Cure\, Echo & The Bunnymen\, New Order and more 🎶 \n NO COVER\n🕗 Doors open at 8 PM\n📍 The Junction Underground
URL:https://junctionunderground.ca/event/retro-brit-pop-video-dance-party/
LOCATION:Junction Underground\, 2907 Dundas St W\, Toronto\, ON\, M6P 1Z1
CATEGORIES:Dance Party
ATTACH;FMTTYPE=image/jpeg:https://junctionunderground.ca/wp-content/uploads/2025/11/retro-brit-pop-video-dance-party-junction-screensh.webp
END:VEVENT
BEGIN:VEVENT
DTSTART;TZID=America/Toronto:20251128T200000
DTEND;TZID=America/Toronto:20251129T020000
DTSTAMP:20260425T080440
CREATED:20251103T170052Z
LAST-MODIFIED:20251230T162907Z
UID:10001134-1764360000-1764381600@junctionunderground.ca
SUMMARY:Retro Dance Party 2
DESCRIPTION:🕺💃 ANNETTE ST. PUBLIC SCHOOL VIDEO DANCE PARTY FRIDAY NOV 28th 🎶 \nGet ready to turn back the clock and light up the dance floor at Annette St Public Schools Retro Video Dance Party — happening NOV 28th! 🔥✨ \nWe’re talking big beats\, bold moves\, and the best throwback vibes in the city. 🎧 This night’s serving nostalgia with a side of pure energy. 💥 \nGrab your crew\, dig out your neon\, sequins\, or vintage denim\, and let’s dance. 🪩💋 \nMassive shoutout to our amazing sponsor — Sidorova Inwood Real Estate Team — for keeping the good times rolling! 🙌 \n🎟️ $35 Tickets (above).\n📅 NOV 28\, Doors at 8 pm\n📍 Annette St Public School Retro Dance Party\n💫 Bring your best moves\, your best friends\, and your best vibes.
URL:https://junctionunderground.ca/event/retro-dance-party-2/
LOCATION:Junction Underground\, 2907 Dundas St W\, Toronto\, ON\, M6P 1Z1
CATEGORIES:Dance Party
ATTACH;FMTTYPE=image/jpeg:https://junctionunderground.ca/wp-content/uploads/2025/11/retro-dance-party-2-junction-screenshot-2025-11-03.webp
END:VEVENT
END:VCALENDAR