BEGIN:VCALENDAR
VERSION:2.0
PRODID:-//JUNCTION UNDERGROUND - ECPv6.15.14//NONSGML v1.0//EN
CALSCALE:GREGORIAN
METHOD:PUBLISH
X-WR-CALNAME:JUNCTION UNDERGROUND
X-ORIGINAL-URL:https://junctionunderground.ca
X-WR-CALDESC:Events for JUNCTION UNDERGROUND
REFRESH-INTERVAL;VALUE=DURATION:PT1H
X-Robots-Tag:noindex
X-PUBLISHED-TTL:PT1H
BEGIN:VTIMEZONE
TZID:America/Toronto
BEGIN:DAYLIGHT
TZOFFSETFROM:-0500
TZOFFSETTO:-0400
TZNAME:EDT
DTSTART:20230312T070000
END:DAYLIGHT
BEGIN:STANDARD
TZOFFSETFROM:-0400
TZOFFSETTO:-0500
TZNAME:EST
DTSTART:20231105T060000
END:STANDARD
BEGIN:DAYLIGHT
TZOFFSETFROM:-0500
TZOFFSETTO:-0400
TZNAME:EDT
DTSTART:20240310T070000
END:DAYLIGHT
BEGIN:STANDARD
TZOFFSETFROM:-0400
TZOFFSETTO:-0500
TZNAME:EST
DTSTART:20241103T060000
END:STANDARD
BEGIN:DAYLIGHT
TZOFFSETFROM:-0500
TZOFFSETTO:-0400
TZNAME:EDT
DTSTART:20250309T070000
END:DAYLIGHT
BEGIN:STANDARD
TZOFFSETFROM:-0400
TZOFFSETTO:-0500
TZNAME:EST
DTSTART:20251102T060000
END:STANDARD
BEGIN:DAYLIGHT
TZOFFSETFROM:-0500
TZOFFSETTO:-0400
TZNAME:EDT
DTSTART:20260308T070000
END:DAYLIGHT
BEGIN:STANDARD
TZOFFSETFROM:-0400
TZOFFSETTO:-0500
TZNAME:EST
DTSTART:20261101T060000
END:STANDARD
END:VTIMEZONE
BEGIN:VEVENT
DTSTART;TZID=America/Toronto:20250124T200000
DTEND;TZID=America/Toronto:20250124T200000
DTSTAMP:20260425T080501
CREATED:20250120T231401Z
LAST-MODIFIED:20250121T142404Z
UID:10000415-1737748800-1737748800@junctionunderground.ca
SUMMARY:Retro Video Dance Party\, Jan 24
DESCRIPTION:🌙🖤 FRI JAN 24th FLASHBACK NO COVER CHARGE🖤 \nStep into the Underground and immerse yourself in the energy of retro-indie\, post-punk\, and industrial vibes. This Friday at 8 PM\, we’re bringing you a Retro Video Dance Party like no other\, at Junction Underground. \n🔥 What to Expect:\n🎥 Vintage video projections—dark\, moody\, and electric\n🎶 A curated soundtrack of post-punk anthems\, indie classics\, and industrial beats that defined underground music\n🕺 A space to move\, connect\, and let go \nIt’s a revival of the sounds and visuals that shaped the counterculture. Think Joy Division\, Bauhaus\, Siouxsie\, NIN\, and more. 🎛️ \n📅 When: Friday\, 8 PM\n📍 Where: Junction Underground\n🎟️ NO COVER \nHeavy sounds. Underground energy. Let’s embrace the shadows and dance the night away. 🖤
URL:https://junctionunderground.ca/event/retro-video-dance-party-jan-24/
LOCATION:ON
CATEGORIES:Dance Party
ATTACH;FMTTYPE=image/jpeg:https://junctionunderground.ca/wp-content/uploads/2025/01/retro-video-dance-party-jan24.jpg
END:VEVENT
BEGIN:VEVENT
DTSTART;TZID=America/Toronto:20250118T150000
DTEND;TZID=America/Toronto:20250118T200000
DTSTAMP:20260425T080501
CREATED:20250114T231610Z
LAST-MODIFIED:20250207T195022Z
UID:10000411-1737212400-1737230400@junctionunderground.ca
SUMMARY:🌞✨ DAY BREAK: SHIFTING THE PARTY PARADIGM ✨🌞
DESCRIPTION:$0 COVER CHARGE. DJ SELAVIE \nWhy wait for the night when the day is calling? This Saturday at 3 PM\, we’re rewriting the rules at the Junction Underground with DAY BREAK—the daytime dance party that lets you live it up and still get your beauty sleep! \n🕺 Dance like nobody’s watching.\n🍹 Sip cocktails during daylight.\n💃 Get home early and wake up refreshed. \nBecause who says you need to sacrifice your Sunday to enjoy a Saturday? Let’s embrace the art of day drinking\, dancing\, and doing it responsibly—because life’s too short for hangovers and groggy mornings. \n📍 Junction Underground\n⏰ 3 PM until 8pm\n💵 Cocktails\, good times\, and zero regrets \nPut on your dancing shoes\, and let’s start a revolution in how we party. Daytime is the new prime time!
URL:https://junctionunderground.ca/event/%f0%9f%8c%9e%e2%9c%a8-day-break-shifting-the-party-paradigm-%e2%9c%a8%f0%9f%8c%9e/
LOCATION:Junction Underground\, 2907 Dundas St W\, Toronto\, ON\, M6P 1Z1
CATEGORIES:Dance Party
ATTACH;FMTTYPE=image/jpeg:https://junctionunderground.ca/wp-content/uploads/2025/01/Screenshot-2025-01-14-at-6.02.16 PM.avif
ORGANIZER;CN="Junction Underground":MAILTO:info@junctionunderground.ca
END:VEVENT
BEGIN:VEVENT
DTSTART;TZID=America/Toronto:20250103T210000
DTEND;TZID=America/Toronto:20250104T020000
DTSTAMP:20260425T080501
CREATED:20250103T065551Z
LAST-MODIFIED:20250103T065551Z
UID:10000404-1735938000-1735956000@junctionunderground.ca
SUMMARY:HOLIDAZED with SELA & FRIENDS LIVE
DESCRIPTION:HOLIDAZED is your ultimate post-holiday party happening at Junction Underground (2907 Dundas St. W) on January 3rd\, from 9 PM – late. \n🎶 Get lost in the sounds of:\n🔊 Aji\n🔊 Lerose\n🔊 Solace\n🔊 Ms. Myles \nAll curated and hosted by the one and only DJ Sela Vie 🌟. \n💸 Pay What You Can\n🎉 19+ Event \nLet’s shake off the holiday haze together and celebrate the energy of 2025! Grab your crew\, come ready to dance\, and let’s make memories. Don’t miss out! 💃🕺 \nhttps://www.instagram.com/p/DEUyTA5xiS1/
URL:https://junctionunderground.ca/event/holidazed-with-sela-friends-live/
LOCATION:Junction Underground\, 2907 Dundas St W\, Toronto\, ON\, M6P 1Z1
CATEGORIES:Dance Party
ATTACH;FMTTYPE=image/webp:https://junctionunderground.ca/wp-content/uploads/2025/01/HOLIDAZED.webp
END:VEVENT
BEGIN:VEVENT
DTSTART;TZID=America/Toronto:20241231T200000
DTEND;TZID=America/Toronto:20250101T040000
DTSTAMP:20260425T080501
CREATED:20241009T224405Z
LAST-MODIFIED:20250227T132814Z
UID:10000357-1735675200-1735704000@junctionunderground.ca
SUMMARY:New Year’s Eve 2025! 🕰️ Retro Video Dance Party
DESCRIPTION:A limited number of online tickets are available from our new ticketing application here. \nCelebrate New Year’s Eve 2025 in The Junction with a Retro Video Dance Party! 🕺✨ Dance to throwback beats from the 80s through the 2000s and ring in the New Year 💃🖤🎶 Don’t miss this unforgettable night—grab your crew\, hit the dance floor\, and toast to 2025 in style. 🥂  \n$10 at the door. Come early to secure your spot!
URL:https://junctionunderground.ca/event/new-years-eve-2025-dance/
LOCATION:Junction Underground\, 2907 Dundas St W\, Toronto\, ON\, M6P 1Z1
CATEGORIES:Dance Party
ATTACH;FMTTYPE=image/jpeg:https://junctionunderground.ca/wp-content/uploads/2024/10/2025-Junction-Retro-New-Years-sq.jpg
ORGANIZER;CN="Junction Underground":MAILTO:info@junctionunderground.ca
END:VEVENT
BEGIN:VEVENT
DTSTART;TZID=America/Toronto:20241227T200000
DTEND;TZID=America/Toronto:20241228T030000
DTSTAMP:20260425T080501
CREATED:20241227T212210Z
LAST-MODIFIED:20241227T225415Z
UID:10000401-1735329600-1735354800@junctionunderground.ca
SUMMARY:The Release & DJ Selavie
DESCRIPTION:The Release is playing your favourite retro tunes live followed by the legendary DJ Selavie. This night will take you on a sonic journey through timeless beats and vibes. Dive deep into the pulse of music that moves the soul—because at Junction Underground\, it’s more than sound. It’s an EXPERIENCE. Whether you’re a dancer\, a dreamer\, or a lover of pure energy\, THIS is the night you’ve been waiting for. Are you ready to RELEASE? \nNo Cover Charge.
URL:https://junctionunderground.ca/event/the-release-band-and-dj-selavie/
LOCATION:Junction Underground\, 2907 Dundas St W\, Toronto\, ON\, M6P 1Z1
CATEGORIES:Bands & Solo Artists,Dance Party
ATTACH;FMTTYPE=image/webp:https://junctionunderground.ca/wp-content/uploads/2024/12/the-release-dj-selavie.webp
ORGANIZER;CN="Junction Underground":MAILTO:info@junctionunderground.ca
END:VEVENT
BEGIN:VEVENT
DTSTART;TZID=America/Toronto:20241122T200000
DTEND;TZID=America/Toronto:20241122T200000
DTSTAMP:20260425T080501
CREATED:20241120T164209Z
LAST-MODIFIED:20241212T042357Z
UID:10000384-1732305600-1732305600@junctionunderground.ca
SUMMARY:🎶🕺 RETRO VIDEO DANCE PARTY! 💃📼
DESCRIPTION:No Cover Charge! \nStep into a time machine and dance your way through the ultimate retro experience at Junction Underground! 🎉 This isn’t just a party – it’s a full-blown celebration of the music and vibes that defined the ‘80s and ‘90s. \n✨ WHAT TO EXPECT:\n🎥 Iconic Music Videos projected on a giant screen\n🎵 The best throwback hits from post punk\, new wave\, and more\n🕺 A dance floor ready to keep you moving all night \n✨ EVENT DETAILS:\n🗓️ When: This Friday\, 8 PM\n📍 Where: Junction Underground \n✨ WHY YOU CAN’T MISS THIS:\nWhether you’re nostalgic for the good old days or discovering these retro bangers for the first time\, this party has something for everyone. let’s light up the night together! \n💥 Don’t wait—mark your calendars\, invite your friends\, and let’s make this a night!
URL:https://junctionunderground.ca/event/%f0%9f%8e%b6%f0%9f%95%ba-this-friday-retro-video-dance-party-%f0%9f%92%83%f0%9f%93%bc/
LOCATION:Junction Underground\, 2907 Dundas St W\, Toronto\, ON\, M6P 1Z1
CATEGORIES:Dance Party
ATTACH;FMTTYPE=image/jpeg:https://junctionunderground.ca/wp-content/uploads/2024/11/RetroDanceParty-copy.jpg
END:VEVENT
BEGIN:VEVENT
DTSTART;TZID=America/Toronto:20241013T213000
DTEND;TZID=America/Toronto:20241013T213000
DTSTAMP:20260425T080501
CREATED:20241009T204407Z
LAST-MODIFIED:20241009T213036Z
UID:10000343-1728855000-1728855000@junctionunderground.ca
SUMMARY:Noche De Cabaret!
DESCRIPTION:📅 Save the Date: Sunday\, October 13\, 2024\n📍 Venue: Junction Underground | 2907 Dundas St W\, Toronto\n⏰ Doors Open: 9:30 PM \nJoin us for Hora de Boleros and live performances filled with the irresistible rhythms of Salsa\, Bachata\, Merengue\, and Cumbia. Let’s dance the night away and embrace the Latin beats in the heart of Toronto! 💃🕺 \n🎤 Live Performances\n🔥 Dance to the best Latin vibes\n✨ Incredible atmosphere with booths available for the ultimate cabaret experience\n🎟️ 19+ event\, cover charge at the door. \n💬 Tag your dance crew and let’s make it a night to remember!\n📲 DM for booth reservations.
URL:https://junctionunderground.ca/event/noche-de-cabaret/
LOCATION:Junction Underground\, 2907 Dundas St W\, Toronto\, ON\, M6P 1Z1
CATEGORIES:Dance Party
ATTACH;FMTTYPE=image/jpeg:https://junctionunderground.ca/wp-content/uploads/2024/10/Screenshot-2024-10-09-at-4.24.50 PM.jpg
END:VEVENT
BEGIN:VEVENT
DTSTART;TZID=America/Toronto:20240927T200000
DTEND;TZID=America/Toronto:20240927T233000
DTSTAMP:20260425T080501
CREATED:20241009T214451Z
LAST-MODIFIED:20241009T214451Z
UID:10000355-1727467200-1727479800@junctionunderground.ca
SUMMARY:Retro Video Dance Party
DESCRIPTION:🖤 This Friday! Get ready to dance like your a teenager at our Retro Video Dance Party 🖤 \n📺 Step into a night of nostalgia as DJ SeLaVie spins iconic tracks\, with the videos to match! Think Joy Division\, Siouxsie and the Banshees\, and all the moody\, edgy vibes you crave. \n🕗 Kicking off at 8 PM – come early\, stay late\, and lose yourself on the dance floor.\n📍 Location: Junction Underground\n🎟️ Limited spots – don’t miss it! \nLet’s make this night legendary. Who’s in? 👁‍🗨 #PostPunkRevival #RetroVibes #DanceParty #DJSeLaVie #NewWaveNight #UndergroundDanceScene
URL:https://junctionunderground.ca/event/retro-video-dance-party/
LOCATION:Junction Underground\, 2907 Dundas St W\, Toronto\, ON\, M6P 1Z1
CATEGORIES:Dance Party
END:VEVENT
BEGIN:VEVENT
DTSTART;TZID=America/Toronto:20240824T200000
DTEND;TZID=America/Toronto:20240825T020000
DTSTAMP:20260425T080501
CREATED:20240821T034705Z
LAST-MODIFIED:20240821T035020Z
UID:10000331-1724529600-1724551200@junctionunderground.ca
SUMMARY:URBAN/ REGGAETON / AFROBEATS PARTY by Latinos Making Noise
DESCRIPTION:LATINOS MAKING NOIZE\nPRESENTS\nURBAN/ REGGAETON / AFROBEATS PARTY\nHOST BY DJ STILES \nMAUI\nESCO\nLORD JRMY\nJAYLUPE & REGARDLESS \nAUGUST 24TH\nCOVER $15\nLADIES 2×1\n8:00 PM
URL:https://junctionunderground.ca/event/urban-reggaeton-afrobeats-party-by-latinos-making-noise/
LOCATION:Junction Underground\, 2907 Dundas St W\, Toronto\, ON\, M6P 1Z1
CATEGORIES:Dance Party,Electronic Music
ATTACH;FMTTYPE=image/webp:https://junctionunderground.ca/wp-content/uploads/2024/08/Latinos-Making-Noise-aug24.webp
END:VEVENT
BEGIN:VEVENT
DTSTART;TZID=America/Toronto:20240824T160000
DTEND;TZID=America/Toronto:20240824T200000
DTSTAMP:20260425T080501
CREATED:20240821T035744Z
LAST-MODIFIED:20240821T035744Z
UID:10000332-1724515200-1724529600@junctionunderground.ca
SUMMARY:The Grown Up Get Down Video Dance Party With DJ Sela Vie
DESCRIPTION:Video Dance Party With DJ Sela Vie\nSaturday\, August 24th\n4 pm – 8 pm
URL:https://junctionunderground.ca/event/the-grown-up-get-down-video-dance-party-with-dj-sela-vie/
LOCATION:Junction Underground\, 2907 Dundas St W\, Toronto\, ON\, M6P 1Z1
CATEGORIES:Dance Party
ATTACH;FMTTYPE=image/webp:https://junctionunderground.ca/wp-content/uploads/2024/08/Grown-Up-Get-Down.webp
END:VEVENT
BEGIN:VEVENT
DTSTART;TZID=America/Toronto:20240823T200000
DTEND;TZID=America/Toronto:20240824T020000
DTSTAMP:20260425T080501
CREATED:20240821T034057Z
LAST-MODIFIED:20240821T034057Z
UID:10000330-1724443200-1724464800@junctionunderground.ca
SUMMARY:The Retro Video Dance Party With Dj SeLaVie
DESCRIPTION:No cover. Doors open at 8 pm.
URL:https://junctionunderground.ca/event/retro-video-dance-party-with-dj-selavie/
LOCATION:Junction Underground\, 2907 Dundas St W\, Toronto\, ON\, M6P 1Z1
CATEGORIES:Dance Party
ATTACH;FMTTYPE=image/webp:https://junctionunderground.ca/wp-content/uploads/2024/08/DJ-SeLaVie.webp
ORGANIZER;CN="Junction Underground":MAILTO:info@junctionunderground.ca
END:VEVENT
END:VCALENDAR