BEGIN:VCALENDAR
VERSION:2.0
PRODID:-//JUNCTION UNDERGROUND - ECPv6.15.14//NONSGML v1.0//EN
CALSCALE:GREGORIAN
METHOD:PUBLISH
X-ORIGINAL-URL:https://junctionunderground.ca
X-WR-CALDESC:Events for JUNCTION UNDERGROUND
REFRESH-INTERVAL;VALUE=DURATION:PT1H
X-Robots-Tag:noindex
X-PUBLISHED-TTL:PT1H
BEGIN:VTIMEZONE
TZID:America/Toronto
BEGIN:DAYLIGHT
TZOFFSETFROM:-0500
TZOFFSETTO:-0400
TZNAME:EDT
DTSTART:20230312T070000
END:DAYLIGHT
BEGIN:STANDARD
TZOFFSETFROM:-0400
TZOFFSETTO:-0500
TZNAME:EST
DTSTART:20231105T060000
END:STANDARD
BEGIN:DAYLIGHT
TZOFFSETFROM:-0500
TZOFFSETTO:-0400
TZNAME:EDT
DTSTART:20240310T070000
END:DAYLIGHT
BEGIN:STANDARD
TZOFFSETFROM:-0400
TZOFFSETTO:-0500
TZNAME:EST
DTSTART:20241103T060000
END:STANDARD
BEGIN:DAYLIGHT
TZOFFSETFROM:-0500
TZOFFSETTO:-0400
TZNAME:EDT
DTSTART:20250309T070000
END:DAYLIGHT
BEGIN:STANDARD
TZOFFSETFROM:-0400
TZOFFSETTO:-0500
TZNAME:EST
DTSTART:20251102T060000
END:STANDARD
END:VTIMEZONE
BEGIN:VEVENT
DTSTART;TZID=America/Toronto:20240905T210000
DTEND;TZID=America/Toronto:20240906T023000
DTSTAMP:20260419T175231
CREATED:20240815T180743Z
LAST-MODIFIED:20240815T192156Z
UID:10000269-1725570000-1725589800@junctionunderground.ca
SUMMARY:TechnoSalonTO: Ksenia Kamikaza
DESCRIPTION:Ksenia Kamikaza\, the founder of UNDER festival and Platz Für Tanz label\, is one of Latvia’s main moving forces of rave culture.  \nWith her boundless sets\, you can imagine local Gegen\, Voxnox\, or Boiler Room showcases. Spinning records in places like Fold in London\, Dommune in Tokyo or Kitkat in Berlin\, Ksenia varies from techno to ambient\, from dark disco to IDM. She puts listeners on a rhythm and sound journey you cannot leave once you have stepped in.  \n2007\, Ksenia founded the Platz für Tanz collective to bring international artists to Latvia. The label has collaborated with Dasha Rush\, Paula Temple\, Matrixxman\, Bloody Mary\, Etapp Kyle\, and significant artists. Ksenia challenges the most unexpected places for her events: trains\, airports\, libraries\, and even churches\, proving that techno is not only music but a genuine cultural phenomenon. \nWe are excited to have Ksenia share her set at TechnoSalonTO. \nTechnoSalonTO is a series for techno lovers on the first Thursday of every month.\nWebsite | Instagram | Facebook | Resident Advisor \n$10 all night. \n \n \n \nKsenia Kamikaza · Techno
URL:https://junctionunderground.ca/event/techno-salon-ksenia-kamikaza/
LOCATION:Junction Underground\, 2907 Dundas St W\, Toronto\, ON\, M6P 1Z1
CATEGORIES:Electronic Music
ATTACH;FMTTYPE=image/webp:https://junctionunderground.ca/wp-content/uploads/2024/08/technosalon-Ksenia-Kamikaza-platz-fur-tanz.webp
ORGANIZER;CN="TechnoSalonTO":MAILTO:technosalonTO@gmail.com
END:VEVENT
BEGIN:VEVENT
DTSTART;TZID=America/Toronto:20240907T180000
DTEND;TZID=America/Toronto:20240908T050000
DTSTAMP:20260419T175231
CREATED:20240829T044202Z
LAST-MODIFIED:20240917T143038Z
UID:10000333-1725732000-1725771600@junctionunderground.ca
SUMMARY:Toast New Beginnings at Junction Underground!
DESCRIPTION:See Event Photos! \nPrepare to shimmy and sip as we toast to the new co-ownership of the Junction Underground! Step into an evening of sultry beats\, dancing\, and the finest company this side of town underground. Don’t miss the chance to cut a rug and raise a glass in a speakeasy-style. \nRSVP on Facebook \n6 pm – 9 pm Happy Hour\, no cover.\n9 pm – 5 am $10  \nOur new KV2 Audio System has a clean sound.\n  \nStellar DJ Lineup!\n \nMARK BAKER   9 PM – 11 PM\n Mixcloud    Hearthis    Facebook  \n \nMark Baker\, now a fixture in Toronto’s underground music scene\, has mastered DJing and delivers dynamic performances. His music journey took a defining turn in 1999 when he discovered Toronto’s System Sound Bar\, igniting his passion for house and techno. He hones his slick selector capabilities and gives his all to every show mixing genres to diverse crowds. \n\n \nLEE LEE MISHI   11 PM – 1 AM\n Soundcloud    Instagram    FB   RA\n \nToronto-based DJ LeeLee Mishi is known for her smooth sets blending deep\, jazz-infused house with minimal techno. She has played alongside international talent and co-founded events like Cyclelogic and Architextures. A founding member of the Suma collective\, she has also performed at notable festivals such as Promise Cherry Beach and Burning Man. \n\n \nBURNIN’ VERNON   1 AM – 3 AM\n Mixcloud    Instagram     Hearthis\n \nBurnin’ Vernon\, a Toronto-based Techno DJ and host of Hot Spot Radio\, is celebrated for her groovy\, melodic techno sets. After years of performing as a musician and singer\, she transitioned to DJing in the early 2000s\, inspired by the rave scene she discovered in 1997. \n\n \nRYAN VETEZE   3 AM – 5 AM\n Soundcloud    Hearthis\n \nRyan Vetese is a house/techno DJ and an event producer. He founded ima·jin\, a company known for creating custom LED fixtures and décor that bring immediacy\, intimacy\, and interactivity to events. \n\n \nWhether you’re coming for the beats\, the drinks\, or the vibe\, this is the place to be with a friend or one to be. \n \nPhoto Gallery
URL:https://junctionunderground.ca/event/toast-new-beginnings/
LOCATION:Junction Underground\, 2907 Dundas St W\, Toronto\, ON\, M6P 1Z1
CATEGORIES:Electronic Music
ATTACH;FMTTYPE=image/jpeg:https://junctionunderground.ca/wp-content/uploads/2024/08/JU-Save-the-Date-Sept-7-2024.jpg
ORGANIZER;CN="Junction Underground":MAILTO:info@junctionunderground.ca
END:VEVENT
BEGIN:VEVENT
DTSTART;TZID=America/Toronto:20240913T220000
DTEND;TZID=America/Toronto:20240914T020000
DTSTAMP:20260419T175231
CREATED:20241009T213750Z
LAST-MODIFIED:20241009T213750Z
UID:10000351-1726264800-1726279200@junctionunderground.ca
SUMMARY:RUUTED Returns w Corey Dawkins and Vinny Gruvhunter
DESCRIPTION:RUUTED Returns! 🔥 \nThis Friday\, September 13\, join us at Junction Underground for the long-awaited comeback of RUUTED! 🌿 We’re back with a night full of deep grooves and soulful beats featuring two legends on the decks: \n🎧 Corey Dawkins\n🎧 Vinny Gruvhunter \nYou’ve missed us\, and we’ve missed YOU! Let’s make this return one to remember. 💃🕺 \n📍 2907 Dundas St W\n⏰ 10 PM\n💵 $15 cover \nIt’s time to reconnect on the dance floor. Let’s get RUUTED together once again! 🌿💥 Tag your crew and let’s make this one special.
URL:https://junctionunderground.ca/event/ruuted-returns-w-corey-dawkins-and-vinny-gruvhunter/
LOCATION:ON
CATEGORIES:Electronic Music
END:VEVENT
BEGIN:VEVENT
DTSTART;TZID=America/Toronto:20240914T213000
DTEND;TZID=America/Toronto:20240915T030000
DTSTAMP:20260419T175231
CREATED:20241009T213451Z
LAST-MODIFIED:20241009T213451Z
UID:10000349-1726349400-1726369200@junctionunderground.ca
SUMMARY:Electric Ecstasy: Matt Dylan\, DJ Well Tek\, & Johnny Wolf
DESCRIPTION:🎶✨ Saturday Sept 14th Electric Ecstasy is coming to the Junction Underground. \nJoin us for a night of PURE techno bliss featuring: \n🔊 Matt Dylan\n🔊 DJ Well Tek\n🔊 Johnny Wolf \nExpect the best in Melodic\, House & Techno as we dive into hypnotic rhythms and deep vibes all night long. \n🗓️ 14 Sept\n⏰ 9:30 PM – 3:00 AM\n📍 Junction Underground \nDon’t miss out on this sonic journey! 🌌 #TechnoVibes #MelodicHouse #ElectricEcstasy #JunctionUnderground #NightOfBeats \nSee you on the dancefloor! 💥
URL:https://junctionunderground.ca/event/electric-ecstasy-matt-dylan-dj-well-tek-johnny-wolf/
LOCATION:Junction Underground\, 2907 Dundas St W\, Toronto\, ON\, M6P 1Z1
CATEGORIES:Electronic Music
END:VEVENT
END:VCALENDAR