BEGIN:VCALENDAR
VERSION:2.0
PRODID:-//JUNCTION UNDERGROUND - ECPv6.15.14//NONSGML v1.0//EN
CALSCALE:GREGORIAN
METHOD:PUBLISH
X-ORIGINAL-URL:https://junctionunderground.ca
X-WR-CALDESC:Events for JUNCTION UNDERGROUND
REFRESH-INTERVAL;VALUE=DURATION:PT1H
X-Robots-Tag:noindex
X-PUBLISHED-TTL:PT1H
BEGIN:VTIMEZONE
TZID:America/Toronto
BEGIN:DAYLIGHT
TZOFFSETFROM:-0500
TZOFFSETTO:-0400
TZNAME:EDT
DTSTART:20230312T070000
END:DAYLIGHT
BEGIN:STANDARD
TZOFFSETFROM:-0400
TZOFFSETTO:-0500
TZNAME:EST
DTSTART:20231105T060000
END:STANDARD
BEGIN:DAYLIGHT
TZOFFSETFROM:-0500
TZOFFSETTO:-0400
TZNAME:EDT
DTSTART:20240310T070000
END:DAYLIGHT
BEGIN:STANDARD
TZOFFSETFROM:-0400
TZOFFSETTO:-0500
TZNAME:EST
DTSTART:20241103T060000
END:STANDARD
BEGIN:DAYLIGHT
TZOFFSETFROM:-0500
TZOFFSETTO:-0400
TZNAME:EDT
DTSTART:20250309T070000
END:DAYLIGHT
BEGIN:STANDARD
TZOFFSETFROM:-0400
TZOFFSETTO:-0500
TZNAME:EST
DTSTART:20251102T060000
END:STANDARD
END:VTIMEZONE
BEGIN:VEVENT
DTSTART;TZID=America/Toronto:20241107T210000
DTEND;TZID=America/Toronto:20241108T020000
DTSTAMP:20260419T143205
CREATED:20241022T041315Z
LAST-MODIFIED:20241029T235226Z
UID:10000272-1731013200-1731031200@junctionunderground.ca
SUMMARY:TechnoSalonTO: Darkova and Varon
DESCRIPTION:The November edition of TechnoSalon will feature an exciting lineup with Darkova and Varon headlining the event. Known for their deep\, driving techno beats and immersive soundscapes\, both artists are set to bring high-energy performances to the dance floor. Attendees can expect a night of cutting-edge electronic music\, blending powerful rhythms with atmospheric tones. TechnoSalon continues to build its reputation as a must-attend event for underground electronic music lovers. \nCome and check out our newly installed KV2 sound system. \n~~~~~~~~ \nTechnoSalon\, is a monthly techno gathering\, taking place every first Thursday of every month. \nA place for techno enthusiasts to experience eclectic sounds and cultivate collaboration. \nRotating artists showcase avant-garde and mind-bending sides of the genre. \nA launch pad for further creativity in music and events. \nTechnoSalon strives towards inclusion and diversity in music and community. BIPOC and LGBTQ folks welcome\, neurodivergence and disability embraced. Our current venue has one flight of stairs with no elevator. Please contact us for accessibility needs. \nWe invite your suggestions on how to improve. After all\, TechnoSalon is for YOU!
URL:https://junctionunderground.ca/event/technosalonto-darkova-and-varon/
LOCATION:Junction Underground\, 2907 Dundas St W\, Toronto\, ON\, M6P 1Z1
CATEGORIES:Electronic Music
ATTACH;FMTTYPE=image/webp:https://junctionunderground.ca/wp-content/uploads/2024/08/TechnoSalonTO-Darkova-and-Varon.webp
ORGANIZER;CN="TechnoSalonTO":MAILTO:technosalonTO@gmail.com
END:VEVENT
BEGIN:VEVENT
DTSTART;TZID=America/Toronto:20241108T220000
DTEND;TZID=America/Toronto:20241108T220000
DTSTAMP:20260419T143205
CREATED:20241106T222305Z
LAST-MODIFIED:20241106T222519Z
UID:10000377-1731103200-1731103200@junctionunderground.ca
SUMMARY:🌱 RUUTED is This Friday 🌱
DESCRIPTION:Get ready for Corey Dawkins\, Ray Ray\, and Michael Martins bringing it to the Junction Underground this Friday\, November 8! Dive deep into the grooves and let the music root you in the vibes. 🎶🔥 \n🗓 Date: Friday\, November 8\n💵 Cover: $20\n📍 Location: Junction Underground\, 2907 Dundas St W\n⏰ Time: 10 PM
URL:https://junctionunderground.ca/event/%f0%9f%8c%b1-ruuted-is-this-friday-%f0%9f%8c%b1/
LOCATION:Junction Underground\, 2907 Dundas St W\, Toronto\, ON\, M6P 1Z1
CATEGORIES:Electronic Music
ATTACH;FMTTYPE=image/jpeg:https://junctionunderground.ca/wp-content/uploads/2024/11/Screenshot-2024-11-06-at-5.20.01 PM.jpg
END:VEVENT
END:VCALENDAR