BEGIN:VCALENDAR
VERSION:2.0
PRODID:-//JUNCTION UNDERGROUND - ECPv6.15.14//NONSGML v1.0//EN
CALSCALE:GREGORIAN
METHOD:PUBLISH
X-WR-CALNAME:JUNCTION UNDERGROUND
X-ORIGINAL-URL:https://junctionunderground.ca
X-WR-CALDESC:Events for JUNCTION UNDERGROUND
REFRESH-INTERVAL;VALUE=DURATION:PT1H
X-Robots-Tag:noindex
X-PUBLISHED-TTL:PT1H
BEGIN:VTIMEZONE
TZID:America/Toronto
BEGIN:DAYLIGHT
TZOFFSETFROM:-0500
TZOFFSETTO:-0400
TZNAME:EDT
DTSTART:20240310T070000
END:DAYLIGHT
BEGIN:STANDARD
TZOFFSETFROM:-0400
TZOFFSETTO:-0500
TZNAME:EST
DTSTART:20241103T060000
END:STANDARD
BEGIN:DAYLIGHT
TZOFFSETFROM:-0500
TZOFFSETTO:-0400
TZNAME:EDT
DTSTART:20250309T070000
END:DAYLIGHT
BEGIN:STANDARD
TZOFFSETFROM:-0400
TZOFFSETTO:-0500
TZNAME:EST
DTSTART:20251102T060000
END:STANDARD
BEGIN:DAYLIGHT
TZOFFSETFROM:-0500
TZOFFSETTO:-0400
TZNAME:EDT
DTSTART:20260308T070000
END:DAYLIGHT
BEGIN:STANDARD
TZOFFSETFROM:-0400
TZOFFSETTO:-0500
TZNAME:EST
DTSTART:20261101T060000
END:STANDARD
END:VTIMEZONE
BEGIN:VEVENT
DTSTART;TZID=America/Toronto:20250201T150000
DTEND;TZID=America/Toronto:20250201T200000
DTSTAMP:20260419T100727
CREATED:20250124T211648Z
LAST-MODIFIED:20250309T124733Z
UID:10000419-1738422000-1738440000@junctionunderground.ca
SUMMARY:Saturday Day Party: It's night for day with DJ Baker. and Corey Dawkins
DESCRIPTION:Update: See event photos from February 1\, 2025. \nSaturday Day Party\, 3 pm – 8 pm. $10 Cover for the DJs. \nIt’s night for day. Kick-off February with an unforgettable Saturday Day Party with music by Baker. and Dawkins. All parties should be day parties! \n \nBAKER.   Hearthis  Instagram \n \nMark Baker\, now a fixture in Toronto’s underground music scene\, has mastered DJing and delivers dynamic performances. His music journey took a defining turn in 1999 when he discovered Toronto’s System Sound Bar\, which ignited his passion for house and techno. He hones his slick selector capabilities and gives his all to every show\, mixing genres with diverse crowds.  \nCOREY DAWKINS   Mixcloud  Instagram \n \nCorey Dawkins\, a DJ\, producer\, and promoter with 20+ years in Toronto’s music scene\, is celebrated for his versatility and deep music knowledge. A staple in the hip-hop\, house\, and neo-soul communities\, he’s worked with top talent and held residencies at major venues. Known for his genre-spanning sets and expert remixes\, Corey’s deep grooves and infectious beats create the ultimate party vibe—day or night.  \n🌞 Why wait for the night to start the party? Come dance\, vibe\, and feel daytime energy with killer tracks from two of the most talented DJs around! \nStart your weekend on a high note and still have time to kick back later.\n🎟️ Don’t sleep on this—let’s hit the dance floor together!  \nBuy a ticket and tell your friends on Instagram\, RA\, or Facebook. \nRSVP on Facebook
URL:https://junctionunderground.ca/event/saturday-day-party-night-for-day/
LOCATION:Junction Underground\, 2907 Dundas St W\, Toronto\, ON\, M6P 1Z1
CATEGORIES:Electronic Music
ATTACH;FMTTYPE=image/jpeg:https://junctionunderground.ca/wp-content/uploads/2025/01/day-for-night-party-baker-dawkins-junction-toronto-600.avif
ORGANIZER;CN="Junction Underground":MAILTO:info@junctionunderground.ca
END:VEVENT
BEGIN:VEVENT
DTSTART;TZID=America/Toronto:20250207T210000
DTEND;TZID=America/Toronto:20250208T020000
DTSTAMP:20260419T100727
CREATED:20250122T150450Z
LAST-MODIFIED:20250206T094905Z
UID:10000418-1738962000-1738980000@junctionunderground.ca
SUMMARY:TechnoSalon: JAMIE KIDD & SHANKAR
DESCRIPTION:Tickets are $10 at the door. 9 pm – 2 am. No online sales available. \nWe’re back and better than ever! TechnoSalon will now light up every second Friday of every month\, kicking off with an unforgettable night to launch our v2.0 series. \nThis edition features the legendary Jamie Kidd\, serving up an extended set packed with his signature heavyweight techno. Joining him is none other than TechnoSalon resident Shankar\, delivering the grooves you know and love. \nAs the temperatures drop outside\, we’ll keep the energy sizzling with an impeccable selection of techno\, all powered by the unmatched KV2 sound system. \n~~~~~~~~\nTechnoSalon\, is a monthly techno gathering\, every second Friday of every month.\n~~~~~~~~\nA place for techno enthusiasts to experience eclectic sounds and cultivate collaboration.\nRotating artists showcase avant-garde and mind-bending sides of the genre.\nA launch pad for further creativity in music and events.\n~~~~~~~~\nTECHNOSALON FEBRUARY\nPresenting:\nJAMIE KIDD\nSHANKAR\n~~~~~~~~\nTechnoSalon strives towards inclusion and diversity in music and community. BIPOC and LGBTQ folks welcome\, neurodivergence and disability embraced. Our current venue has one flight of stairs with no elevator. Please get in touch with us for accessibility needs.  \nWe would like to invite your suggestions on how to improve. After all\, TechnoSalon is for YOU!\n~~~~~~~~
URL:https://junctionunderground.ca/event/technosalon-jamie-kidd-shankar/
LOCATION:Junction Underground\, 2907 Dundas St W\, Toronto\, ON\, M6P 1Z1
CATEGORIES:Electronic Music
ATTACH;FMTTYPE=image/jpeg:https://junctionunderground.ca/wp-content/uploads/2025/01/technosalon-feb7.avif
END:VEVENT
BEGIN:VEVENT
DTSTART;TZID=America/Toronto:20250215T220000
DTEND;TZID=America/Toronto:20250216T020000
DTSTAMP:20260419T100727
CREATED:20250211T134624Z
LAST-MODIFIED:20250217T221551Z
UID:10000432-1739656800-1739671200@junctionunderground.ca
SUMMARY:HOUSE MANTRA: GATHURIN’ UF SOULZ
DESCRIPTION:CANCELED due to major snowstorm\n$15 cover for the DJs. \nHouse heads\, soul seekers\, and vibe bringers—GUS crew is back for Season 3\, Chapter 22 of Gathurin’ of Soulz! Get ready for another night of deep\, soulful\, and uplifting house music at Junction Underground! \n🎶 HOUSE MANTRA: A Gathering of Soulz\n💃 Rhythms to move your body\, basslines to lift your spirit \nThis isn’t just a party—it’s a ritual on the dancefloor. Come together\, feel the pulse\, and lose yourself in the music. House is a feeling\, and you’re invited to experience it with us. \nDrop a 🔥 in the comments if we see you there! \n••••••••••••••••••••••••••••••••••\nJoining The GUS Crew this month:\n🔥🔥🔥JUNIOR PALMER🔥🔥🔥\n•••••••••••••••••••••••••••••••••• \nInstagram | Facebook
URL:https://junctionunderground.ca/event/house-mantra-gathurin-uf-soulz/
LOCATION:Junction Underground\, 2907 Dundas St W\, Toronto\, ON\, M6P 1Z1
CATEGORIES:Electronic Music
ATTACH;FMTTYPE=image/webp:https://junctionunderground.ca/wp-content/uploads/2025/02/house-mantra-gathurin-uf-soulz.avif
END:VEVENT
BEGIN:VEVENT
DTSTART;TZID=America/Toronto:20250222T220000
DTEND;TZID=America/Toronto:20250223T023000
DTSTAMP:20260419T100727
CREATED:20250209T170550Z
LAST-MODIFIED:20250215T131913Z
UID:10000428-1740261600-1740277800@junctionunderground.ca
SUMMARY:RUUTED: Corey Dawkins and Leo Love
DESCRIPTION:Buy Tickets  \nCOREY DAWKINS & LEO LOVE.\nPERCUSSION BY: OXLEY & SMYTH \nLike on:\nFacebook\, Instagram\, Resident Advisor
URL:https://junctionunderground.ca/event/ruuted-corey-dawkins-x-leo-love/
LOCATION:Junction Underground\, 2907 Dundas St W\, Toronto\, ON\, M6P 1Z1
CATEGORIES:Electronic Music
ATTACH;FMTTYPE=image/avif:https://junctionunderground.ca/wp-content/uploads/2025/02/black-flyer-for-ruuted-event-feb22.avif
END:VEVENT
BEGIN:VEVENT
DTSTART;TZID=America/Toronto:20250223T160000
DTEND;TZID=America/Toronto:20250223T233000
DTSTAMP:20260419T100727
CREATED:20250209T203305Z
LAST-MODIFIED:20250213T141429Z
UID:10000429-1740326400-1740353400@junctionunderground.ca
SUMMARY:Over & Over & Group Benefits: Sunday Day Jam
DESCRIPTION:Buy Tickets $15-$20  \n$20 at door.  \nAfternoon of Vinyl only. Disco & Deep House in the heart of The Junction with a KV2 Audio Sound System. \nLINEUP:\nGROUP BENEFITS (Jodie & Janina Marie)\nPOOYAN\nALI BLACK \n \nGroupobene · Group Benefits – Live at Little Jerry September 2023\n \nSmall Jerry · DJ Ali Black mix for Jerry February 2023.mp3
URL:https://junctionunderground.ca/event/over-over-sunday-day-jam-group-benefits/
LOCATION:Junction Underground\, 2907 Dundas St W\, Toronto\, ON\, M6P 1Z1
CATEGORIES:Electronic Music
ATTACH;FMTTYPE=image/webp:https://junctionunderground.ca/wp-content/uploads/2025/02/over-over-sunday-day-jam-group-benefits.avif
END:VEVENT
END:VCALENDAR