BEGIN:VCALENDAR
VERSION:2.0
PRODID:-//JUNCTION UNDERGROUND - ECPv6.15.14//NONSGML v1.0//EN
CALSCALE:GREGORIAN
METHOD:PUBLISH
X-ORIGINAL-URL:https://junctionunderground.ca
X-WR-CALDESC:Events for JUNCTION UNDERGROUND
REFRESH-INTERVAL;VALUE=DURATION:PT1H
X-Robots-Tag:noindex
X-PUBLISHED-TTL:PT1H
BEGIN:VTIMEZONE
TZID:America/Toronto
BEGIN:DAYLIGHT
TZOFFSETFROM:-0500
TZOFFSETTO:-0400
TZNAME:EDT
DTSTART:20250309T070000
END:DAYLIGHT
BEGIN:STANDARD
TZOFFSETFROM:-0400
TZOFFSETTO:-0500
TZNAME:EST
DTSTART:20251102T060000
END:STANDARD
BEGIN:DAYLIGHT
TZOFFSETFROM:-0500
TZOFFSETTO:-0400
TZNAME:EDT
DTSTART:20260308T070000
END:DAYLIGHT
BEGIN:STANDARD
TZOFFSETFROM:-0400
TZOFFSETTO:-0500
TZNAME:EST
DTSTART:20261101T060000
END:STANDARD
BEGIN:DAYLIGHT
TZOFFSETFROM:-0500
TZOFFSETTO:-0400
TZNAME:EDT
DTSTART:20270314T070000
END:DAYLIGHT
BEGIN:STANDARD
TZOFFSETFROM:-0400
TZOFFSETTO:-0500
TZNAME:EST
DTSTART:20271107T060000
END:STANDARD
END:VTIMEZONE
BEGIN:VEVENT
DTSTART;TZID=America/Toronto:20260103T200000
DTEND;TZID=America/Toronto:20260103T233000
DTSTAMP:20260425T164946
CREATED:20260106T062109Z
LAST-MODIFIED:20260106T062109Z
UID:10001160-1767470400-1767483000@junctionunderground.ca
SUMMARY:Good Enough Live Karaoke
DESCRIPTION:
URL:https://junctionunderground.ca/event/good-enough-live-karaoke-5/
LOCATION:Junction Underground\, 2907 Dundas St W\, Toronto\, ON\, M6P 1Z1
CATEGORIES:Karaoke
END:VEVENT
BEGIN:VEVENT
DTSTART;TZID=America/Toronto:20260109T200000
DTEND;TZID=America/Toronto:20260109T233000
DTSTAMP:20260425T164946
CREATED:20260105T221402Z
LAST-MODIFIED:20260105T223637Z
UID:10001158-1767988800-1768001400@junctionunderground.ca
SUMMARY:All Request Y2K Video Jam
DESCRIPTION:✨📼💿 FRI JAN 9th – Y2K THROWBACK ALERT! 💿📼✨ \nAll-Request Y2K Video Jam is taking over Junction Underground\, and yes—you control the playlist. DJs Be Kind Rewind and Deep Cutz are spinning the hits that defined the early 2000s\, from pop princesses to hip-hop classics\, emo tears to club bangers. \nWe’re rewinding time and turning the volume ALL the way up.  \nThink:\n💖 Flip phones\n📺 Grainy music videos\n💿 Burned CDs\n🕺 Dancefloor anthems you forgot you knew every word to \n📅 Friday\, January 9th\, 2026\n📍 Junction Underground – 2907 Dundas St. W\n🕗 Doors at 8 PM\n🎟 NO COVER \nIt’s an interactive Y2K throwback party—make requests\, watch the vids\, and dance like it’s 2004 again. Charge your imaginary Razr and meet us on the dancefloor 🪩🔥
URL:https://junctionunderground.ca/event/all-request-y2k-video-jam/
LOCATION:Junction Underground\, 2907 Dundas St W\, Toronto\, ON\, M6P 1Z1
CATEGORIES:Karaoke
ATTACH;FMTTYPE=image/webp:https://junctionunderground.ca/wp-content/uploads/2026/01/all-request-y2k-video-jam-junction-all-request-y2k-1.webp
END:VEVENT
END:VCALENDAR