BEGIN:VCALENDAR
VERSION:2.0
PRODID:-//JUNCTION UNDERGROUND - ECPv6.15.14//NONSGML v1.0//EN
CALSCALE:GREGORIAN
METHOD:PUBLISH
X-WR-CALNAME:JUNCTION UNDERGROUND
X-ORIGINAL-URL:https://junctionunderground.ca
X-WR-CALDESC:Events for JUNCTION UNDERGROUND
REFRESH-INTERVAL;VALUE=DURATION:PT1H
X-Robots-Tag:noindex
X-PUBLISHED-TTL:PT1H
BEGIN:VTIMEZONE
TZID:America/Toronto
BEGIN:DAYLIGHT
TZOFFSETFROM:-0500
TZOFFSETTO:-0400
TZNAME:EDT
DTSTART:20230312T070000
END:DAYLIGHT
BEGIN:STANDARD
TZOFFSETFROM:-0400
TZOFFSETTO:-0500
TZNAME:EST
DTSTART:20231105T060000
END:STANDARD
BEGIN:DAYLIGHT
TZOFFSETFROM:-0500
TZOFFSETTO:-0400
TZNAME:EDT
DTSTART:20240310T070000
END:DAYLIGHT
BEGIN:STANDARD
TZOFFSETFROM:-0400
TZOFFSETTO:-0500
TZNAME:EST
DTSTART:20241103T060000
END:STANDARD
BEGIN:DAYLIGHT
TZOFFSETFROM:-0500
TZOFFSETTO:-0400
TZNAME:EDT
DTSTART:20250309T070000
END:DAYLIGHT
BEGIN:STANDARD
TZOFFSETFROM:-0400
TZOFFSETTO:-0500
TZNAME:EST
DTSTART:20251102T060000
END:STANDARD
BEGIN:DAYLIGHT
TZOFFSETFROM:-0500
TZOFFSETTO:-0400
TZNAME:EDT
DTSTART:20260308T070000
END:DAYLIGHT
BEGIN:STANDARD
TZOFFSETFROM:-0400
TZOFFSETTO:-0500
TZNAME:EST
DTSTART:20261101T060000
END:STANDARD
END:VTIMEZONE
BEGIN:VEVENT
DTSTART;TZID=America/Toronto:20250110T200000
DTEND;TZID=America/Toronto:20250111T020000
DTSTAMP:20260421T090041
CREATED:20250107T215002Z
LAST-MODIFIED:20250108T033128Z
UID:10000407-1736539200-1736560800@junctionunderground.ca
SUMMARY:FREELOADER LIVE🎸
DESCRIPTION:Get ready for Friday night at the Junction Underground with the band that’s been proudly pilfering since 2021! \n📅 Friday\, January 10\n⏰ Doors Open at 8 PM | Show Starts at 9 PM\n💰 Advance: $10 | Door: $15 \nThis is your chance to experience an unforgettable night of energy-packed live music and great vibes. Gather your crew\, grab a drink\, and let the sounds of FREELODER take over your weekend. \n🎶 The Underground is calling 🎶 \nSecure your tickets early and don’t miss out on this good time. Let’s turn Friday night into a party! 🍻
URL:https://junctionunderground.ca/event/freeloader-live%f0%9f%8e%b8/
LOCATION:Junction Underground\, 2907 Dundas St W\, Toronto\, ON\, M6P 1Z1
CATEGORIES:Bands & Solo Artists
ATTACH;FMTTYPE=image/webp:https://junctionunderground.ca/wp-content/uploads/2025/01/FREELOADER.webp
END:VEVENT
BEGIN:VEVENT
DTSTART;TZID=America/Toronto:20250104T213000
DTEND;TZID=America/Toronto:20250105T010000
DTSTAMP:20260421T090041
CREATED:20250103T065923Z
LAST-MODIFIED:20250103T130355Z
UID:10000405-1736026200-1736038800@junctionunderground.ca
SUMMARY:GOOD ENOUGH LIVE KARAOKE
DESCRIPTION:🎤 GOOD ENOUGH LIVE KARAOKE IS BACK! 🎸\n🔥 We play\, YOU sing! 🔥 \nKick off 2025 with the most electrifying night of live karaoke at Junction Underground! \n💵 Cover: $10 (cash only) \nGrab the mic\, channel your inner rockstar\, and belt out your favourite tunes with a live band backing you up. This isn’t your regular karaoke night—it’s a chance to own the stage! 🎶⚡ \nDon’t miss the high-energy vibes and unforgettable performances! Bring your friends\, your best vocal cords\, and get ready for a wild night. \n🎤 ARE YOU GOOD ENOUGH? Let’s find out! \nhttps://www.instagram.com/p/DEV04zlSUCK/
URL:https://junctionunderground.ca/event/good-enough-live-karaoke-2025-01/
LOCATION:Junction Underground\, 2907 Dundas St W\, Toronto\, ON\, M6P 1Z1
CATEGORIES:Bands & Solo Artists,Karaoke
ATTACH;FMTTYPE=image/webp:https://junctionunderground.ca/wp-content/uploads/2025/01/GOOD-ENOUGH-LIVE-KARAOKE-2025-01-04-e1738298704711.webp
END:VEVENT
BEGIN:VEVENT
DTSTART;TZID=America/Toronto:20241228T200000
DTEND;TZID=America/Toronto:20241229T030000
DTSTAMP:20260421T090042
CREATED:20241227T165851Z
LAST-MODIFIED:20241227T222744Z
UID:10000400-1735416000-1735441200@junctionunderground.ca
SUMMARY:The Satisfactory single release show with Mad Iris & Wedding
DESCRIPTION:Heavy Clouds/Hibernation single release.  \nNew music\, new friends\, new years eve eve eve eve. Spread the word\, we can’t wait to come home!  \nBands Mad Iris and Wedding to join. 🐝 THERE! \nThe Satisfactory  is a rising Montreal-based rock trio formed by Salvador Vaughan (Sal)\, Max Moller\, and Viva Anoush Egoyan-Rokeby. Originating from Toronto\, they bonded in Concordia University’s Grey Nuns residence and officially became a band in the summer of 2023. Led by Sal on guitar and vocals\, with Moller on drums and Egoyan-Rokeby on bass\, the group blends heartfelt songwriting\, Oasis-inspired energy\, and live performance charisma. Despite their name\, they’re anything but “satisfactory”—their passion\, chemistry\, and ambition set them apart as one of Canada’s most promising acts. \n$10 \n \n[icon name=”instagram” prefix=”fab”]Instagram\nhttps://www.instagram.com/p/DDu13Jrvzcx/ \nhttps://www.instagram.com/p/DDxcUXnvdxx/ \nhttps://www.instagram.com/p/DD7V_jdPTrm/ \nPoster by: @vivalasvegas._\nLettering by: @fckyoumax
URL:https://junctionunderground.ca/event/the-satisfactory-release-show/
LOCATION:Junction Underground\, 2907 Dundas St W\, Toronto\, ON\, M6P 1Z1
CATEGORIES:Bands & Solo Artists
ATTACH;FMTTYPE=image/webp:https://junctionunderground.ca/wp-content/uploads/2024/12/the-satisfactory-release-show.webp
ORGANIZER;CN="Junction Underground":MAILTO:info@junctionunderground.ca
END:VEVENT
BEGIN:VEVENT
DTSTART;TZID=America/Toronto:20241227T200000
DTEND;TZID=America/Toronto:20241228T030000
DTSTAMP:20260421T090044
CREATED:20241227T212210Z
LAST-MODIFIED:20241227T225415Z
UID:10000401-1735329600-1735354800@junctionunderground.ca
SUMMARY:The Release & DJ Selavie
DESCRIPTION:The Release is playing your favourite retro tunes live followed by the legendary DJ Selavie. This night will take you on a sonic journey through timeless beats and vibes. Dive deep into the pulse of music that moves the soul—because at Junction Underground\, it’s more than sound. It’s an EXPERIENCE. Whether you’re a dancer\, a dreamer\, or a lover of pure energy\, THIS is the night you’ve been waiting for. Are you ready to RELEASE? \nNo Cover Charge.
URL:https://junctionunderground.ca/event/the-release-band-and-dj-selavie/
LOCATION:Junction Underground\, 2907 Dundas St W\, Toronto\, ON\, M6P 1Z1
CATEGORIES:Bands & Solo Artists,Dance Party
ATTACH;FMTTYPE=image/webp:https://junctionunderground.ca/wp-content/uploads/2024/12/the-release-dj-selavie.webp
ORGANIZER;CN="Junction Underground":MAILTO:info@junctionunderground.ca
END:VEVENT
BEGIN:VEVENT
DTSTART;TZID=America/Toronto:20241206T203000
DTEND;TZID=America/Toronto:20241206T203000
DTSTAMP:20260421T090044
CREATED:20241204T220548Z
LAST-MODIFIED:20241212T042421Z
UID:10000390-1733517000-1733517000@junctionunderground.ca
SUMMARY:Bands: The Ocean Sleeps\, DAS RAD\, Camo Kimono\, and Sabio
DESCRIPTION:Experience an unforgettable night of music at Junction Underground with The Ocean Sleeps headlining the show! 🌙✨ \nFeaturing an amazing lineup:\n🎸 DAS RAD\n🎸 Camo Kimono\n🎸 Sabio \n📍 Where: Junction Underground\n⏰ Doors Open: 8:30 PM\n🎟️ Cover: $10 at the door \nLet the waves of incredible music take you on a journey you won’t forget. 🌌 Don’t miss this chance to soak up the vibes with these fantastic bands
URL:https://junctionunderground.ca/event/%f0%9f%8c%8a%f0%9f%8e%b6-live-this-friday-night-%f0%9f%8e%b6%f0%9f%8c%8a/
LOCATION:Junction Underground\, 2907 Dundas St W\, Toronto\, ON\, M6P 1Z1
CATEGORIES:Bands & Solo Artists
ATTACH;FMTTYPE=image/jpeg:https://junctionunderground.ca/wp-content/uploads/2024/12/Screenshot-2024-12-04-at-4.50.00 PM-copy.jpg
END:VEVENT
BEGIN:VEVENT
DTSTART;TZID=America/Toronto:20241129T200000
DTEND;TZID=America/Toronto:20241129T200000
DTSTAMP:20260421T090044
CREATED:20241126T195452Z
LAST-MODIFIED:20241212T042707Z
UID:10000386-1732910400-1732910400@junctionunderground.ca
SUMMARY:🎶 Phantasia\, Tribunals\, and New Delta 🎶
DESCRIPTION:Get ready for Phantasia\, Tribunals\, and New Delta! 🎸✨ These incredible bands are set to bring the house down with electrifying performances. \n🗓 Date: Friday\, November 29\, 2024\n⏰ Doors Open: 8 PM\n📍 Location: 2907 Dundas St W\, Toronto\, ON\, M6P 1Z1 \n🎟 Tickets:\n👉 $10 online\n👉 $15 at the door \nSecure your spot now at junctionunderground.ca! Don’t miss out on this epic lineup! 🌟 \nlet’s make it a night to remember. Who’s coming? 👇
URL:https://junctionunderground.ca/event/%f0%9f%8e%b6-this-friday-live-at-junction-underground-%f0%9f%8e%b6/
LOCATION:Junction Underground\, 2907 Dundas St W\, Toronto\, ON\, M6P 1Z1
CATEGORIES:Bands & Solo Artists
ATTACH;FMTTYPE=image/jpeg:https://junctionunderground.ca/wp-content/uploads/2024/11/Screenshot-2024-11-26-at-2.46.22 PM.jpg
END:VEVENT
BEGIN:VEVENT
DTSTART;TZID=America/Toronto:20241128T200000
DTEND;TZID=America/Toronto:20241128T200000
DTSTAMP:20260421T090044
CREATED:20241126T222642Z
LAST-MODIFIED:20241212T042830Z
UID:10000388-1732824000-1732824000@junctionunderground.ca
SUMMARY:Electrokat\, Pigeon Party\, Pot Is Drugs at Thursday\, Thursday’s
DESCRIPTION:Every Thursday at the Junction Underground!! \nThis week we’re bringing you an epic night of underground sounds curated by STMV Entertainment brought to you by Brass Knuckles Whiskey & SEEROCKLIVE.com Upcoming Shows! \nThis Thursdays Lineup:\n• Electrokat\n• Pigeon Party\n• Pot Is Drugs \nDon’t miss out on this showcase of local talent! Grab your tickets now at SEEROCKLIVE.com and prepare for a night of unforgettable sounds.\nRemember: Every Thursday is Thursday\, Thursday at the Junction Underground with SMTV Entertainment and Brass Knuckles Whiskey.
URL:https://junctionunderground.ca/event/toronto-get-ready-for-thursday-thursdays-at-the-junction-underground/
LOCATION:Junction Underground\, 2907 Dundas St W\, Toronto\, ON\, M6P 1Z1
CATEGORIES:Bands & Solo Artists
ATTACH;FMTTYPE=image/jpeg:https://junctionunderground.ca/wp-content/uploads/2024/11/Entertainment-1080-x-1350-px.png.jpeg
END:VEVENT
BEGIN:VEVENT
DTSTART;TZID=America/Toronto:20241102T200000
DTEND;TZID=America/Toronto:20241102T200000
DTSTAMP:20260421T090044
CREATED:20241029T195248Z
LAST-MODIFIED:20241029T235113Z
UID:10000375-1730577600-1730577600@junctionunderground.ca
SUMMARY:🎤 GOOD ENOUGH LIVE KARAOKE 🎸
DESCRIPTION:Ever dreamed of rocking out with a live band? This is your night! \nGet on stage with Esti on bass\, Kyle on drums\, and Tim McCready on guitar + keys and make it a night to remember! We play\, YOU sing! 🎶 \nWarm up those vocal cords – let’s make this one for the books! \n📅 Saturday\, November 2nd\, 2024\n📍 Junction Underground – 2907 Dundas St W\, Toronto\n⏰ Doors open at 8 pm\n💰 $10 cover – Come ready to sing! \n 
URL:https://junctionunderground.ca/event/good-enough-live-karaoke/
LOCATION:Junction Underground\, 2907 Dundas St W\, Toronto\, ON\, M6P 1Z1
CATEGORIES:Bands & Solo Artists,Karaoke
ATTACH;FMTTYPE=image/jpeg:https://junctionunderground.ca/wp-content/uploads/2024/10/Screenshot-2024-10-29-at-3.46.38 PM.jpg
END:VEVENT
BEGIN:VEVENT
DTSTART;TZID=America/Toronto:20241031T200000
DTEND;TZID=America/Toronto:20241031T200000
DTSTAMP:20260421T090044
CREATED:20241029T205911Z
LAST-MODIFIED:20241029T213127Z
UID:10000374-1730404800-1730404800@junctionunderground.ca
SUMMARY:Halloween night at Junction Underground! 🎃
DESCRIPTION:Join us for a killer lineup featuring Storm Breaker\, Blaze\, and Les Ismore bringing it with live performances that’ll shake the underground. \n🗓️ Date: Thurs October 31st\n📍 Location: Junction Underground\, 2907 Dundas St W\n🎟️ Cover: $20\n⏰ Doors Open: 8 PM \nCome in costume\, bring your friends\, and let’s make this a Halloween to remember! Don’t miss out on the vibes and dark tunes. 👻🎸
URL:https://junctionunderground.ca/event/halloween-night-at-junction-underground-%f0%9f%8e%83/
LOCATION:Junction Underground\, 2907 Dundas St W\, Toronto\, ON\, M6P 1Z1
CATEGORIES:Bands & Solo Artists
ATTACH;FMTTYPE=image/jpeg:https://junctionunderground.ca/wp-content/uploads/2024/10/EF1D8F5D-AB70-4378-9FAF-FE4F3487E37F_4_5005_c.jpeg
END:VEVENT
BEGIN:VEVENT
DTSTART;TZID=America/Toronto:20241012T203000
DTEND;TZID=America/Toronto:20241012T203000
DTSTAMP:20260421T090044
CREATED:20241009T203858Z
LAST-MODIFIED:20241009T213127Z
UID:10000344-1728765000-1728765000@junctionunderground.ca
SUMMARY:Elastic Ass\, The Databats\, and Jerry from Last Week
DESCRIPTION:Prepare for a night of wild energy and genre-blending soundscapes as Elastic Ass\, The Databats\, and Jerry from Last Week hit the stage! ⚡️ This lineup is all about raw talent\, experimental vibes\, and an unforgettable live experience. From pulsing electronic beats to gritty punk \n📍 Junction Underground\n🗓️ October 12\n⏰ Doors at 8:30 PM\n💸 Cover: $10 \nCome for the music\, stay for the vibe
URL:https://junctionunderground.ca/event/elastic-ass-the-databats-and-jerry-from-last-week/
LOCATION:Junction Underground\, 2907 Dundas St W\, Toronto\, ON\, M6P 1Z1
CATEGORIES:Bands & Solo Artists
ATTACH;FMTTYPE=image/jpeg:https://junctionunderground.ca/wp-content/uploads/2024/10/Screenshot-2024-10-09-at-4.25.11 PM.jpg
END:VEVENT
BEGIN:VEVENT
DTSTART;TZID=America/Toronto:20241010T190000
DTEND;TZID=America/Toronto:20241010T190000
DTSTAMP:20260421T090044
CREATED:20241009T182215Z
LAST-MODIFIED:20241009T211917Z
UID:10000342-1728586800-1728586800@junctionunderground.ca
SUMMARY:The Idaho Stop\, Left of Zero & Jessica Stuart
DESCRIPTION:Live this Thursday Oct 10th. an unforgettable lineup featuring The Idaho Stop\, the alt-rock energy of Left of Zero\, and the soulful rhythms of Jessica Stuart! 🌟 \nDoors open at 7 PM\, and with just a $10 cover\, it’s a perfect way to dive into midweek vibes. Come for the music\, stay for the atmosphere!
URL:https://junctionunderground.ca/event/the-idaho-stop-left-of-zero-jessica-stuart/
LOCATION:Junction Underground\, 2907 Dundas St W\, Toronto\, ON\, M6P 1Z1
CATEGORIES:Bands & Solo Artists
ATTACH;FMTTYPE=image/jpeg:https://junctionunderground.ca/wp-content/uploads/2024/10/Screenshot-2024-10-09-at-2.19.30 PM.jpg
END:VEVENT
BEGIN:VEVENT
DTSTART;TZID=America/Toronto:20241006T200000
DTEND;TZID=America/Toronto:20241007T020000
DTSTAMP:20260421T090044
CREATED:20241009T212816Z
LAST-MODIFIED:20241009T212843Z
UID:10000348-1728244800-1728266400@junctionunderground.ca
SUMMARY:Dear Evangeline\, Eternal Requiem\, Insomniak\, and Lucky You
DESCRIPTION:🚨 LIVE SHOW ALERT – Sunday October 6th 🚨 \nGet ready to turn up the volume and rock out at The Junction Underground on Saturday\, October 6th with a lineup of killer bands! 🎸🔥 \n🎤 Dear Evangeline\n🎶 Eternal Requiem\n🎧 Insomniak\n🎸 Lucky You (making their debut—don’t miss their FIRST EVER show!) \nThis is going to be one wild night of live music you won’t want to miss! 🤘 \n📍 Location: 2907 Dundas St. W\, Toronto\n🕗 Doors: 8 PM\n🎸 Bands: Start at 8:30 PM\n🎟️ Tickets: \n   •   $15 online\n   •   $20 at the door (cash only!)\n   •   19+ event (bring ID) \nDon’t wait—grab your tickets early and secure your spot for an epic night of music that’ll blow your mind. Let’s pack the place and support these awesome bands! 🎉
URL:https://junctionunderground.ca/event/dear-evangeline-eternal-requiem-insomniak-and-lucky-you/
CATEGORIES:Bands & Solo Artists
END:VEVENT
BEGIN:VEVENT
DTSTART;TZID=America/Toronto:20241005T213000
DTEND;TZID=America/Toronto:20241006T010000
DTSTAMP:20260421T090044
CREATED:20241009T212659Z
LAST-MODIFIED:20241009T212659Z
UID:10000347-1728163800-1728176400@junctionunderground.ca
SUMMARY:Good Enough Live Karaoke
DESCRIPTION:Saturday Good Enough Live Karaoke – 10 YEARS Strong! 🎉 \nHave you ever wanted to be the lead singer of a live band? Here’s your chance! 😎 We play\, YOU sing—and trust us\, it’s going to be legendary. \n🔥 Join us at Junction Underground on Saturday\, October 5th\, for our special 10-year anniversary show. Let’s make this night unforgettable! \n📍 Location: 2907 Dundas Street West\, Toronto\n⏰ Time: Band plays from 9:30 PM – 1:00 AM\n💸 Cover: Just $10 (worth every penny\, right?!) \n🎸 Tim McCready on guitar + keys\n🥁 Kyle on drums\n🎸 Esti on bass \nThis isn’t just karaoke—it’s a live music experience! Whether you’re channelling your inner rockstar or singing your favourite ballad\, we’ve got you covered. \n🔖 Tag your squad\, pick your song\, and prepare to take the stage. LET’S ROCK! \n👉 Don’t miss this epic night at one of Toronto’s best live venues! \n#KaraokeNight #LiveMusicToronto #JunctionUnderground #TorontoEvents #GoodEnoughLiveKaraoke #SingYourHeartOut #TorontoKaraoke #LiveBandKaraoke #GELK10Years #WePlayYouSing
URL:https://junctionunderground.ca/event/good-enough-live-karaoke-oct-2024/
LOCATION:Junction Underground\, 2907 Dundas St W\, Toronto\, ON\, M6P 1Z1
CATEGORIES:Bands & Solo Artists
END:VEVENT
BEGIN:VEVENT
DTSTART;TZID=America/Toronto:20241004T213000
DTEND;TZID=America/Toronto:20241005T020000
DTSTAMP:20260421T090044
CREATED:20241009T212359Z
LAST-MODIFIED:20241009T212359Z
UID:10000346-1728077400-1728093600@junctionunderground.ca
SUMMARY:The Surgically Hip
DESCRIPTION:🎸 This Friday! Calling all Tragically Hip fans! 🎸 \nOn October 4th\, the Surgically Hip is bringing the iconic sound of Gord Downie and The Tragically Hip to life at the Junction Underground! 🔥 \nGet ready for a night of pure nostalgia as these talented musicians deliver all the hits that made The Hip legendary. From “Bobcaygeon” to “Courage\,” this is the ultimate tribute you don’t want to miss. 🎶 \nShowtime: 9:30 PM\nAdvance Tix: $10 | Door: $15\n🎟️ Grab your tickets now on Eventbrite! (Link in bio) \nLet’s pack the house\, raise a glass\, and celebrate the legacy of one of Canada’s greatest bands! 🇨🇦✨ #InGordWeTrust #TragicallyHipTribute #LiveMusicToronto #JunctionUnderground #FridayNightVibes #SurgicallyHipLive
URL:https://junctionunderground.ca/event/the-surgically-hip/
LOCATION:Junction Underground\, 2907 Dundas St W\, Toronto\, ON\, M6P 1Z1
CATEGORIES:Bands & Solo Artists
END:VEVENT
BEGIN:VEVENT
DTSTART;TZID=America/Toronto:20240920T200000
DTEND;TZID=America/Toronto:20240920T230000
DTSTAMP:20260421T090044
CREATED:20241009T214134Z
LAST-MODIFIED:20241009T214134Z
UID:10000353-1726862400-1726873200@junctionunderground.ca
SUMMARY:Red Karavan and Blue Lemon
DESCRIPTION:🎸🎶 Friday September 20th is a night of live performances by Red Karavan and Blue Lemon! 🎤🌆🔥 \n📍 Location: Junction Underground\, 2907 Dundas W\n⏰ Time: 8 PM – 11 PM\n🎟️ Cover: Only $10 \nGet ready for a wild ride of vibes and killer tunes that’ll make your Thursday unforgettable! 🚗💥 \nDoors open at 8pm \n👀 See you there? \n#TorontoMusicScene #LiveMusicToronto #JunctionUnderground #RockAndRollVibes #RedKaravan #BlueLemonBand #ThursdayVibes #TorontoNights #SupportLiveMusic #MusicLoversUnite
URL:https://junctionunderground.ca/event/red-karavan-and-blue-lemon/
CATEGORIES:Bands & Solo Artists
END:VEVENT
BEGIN:VEVENT
DTSTART;TZID=America/Toronto:20240915T160000
DTEND;TZID=America/Toronto:20240915T233000
DTSTAMP:20260421T090044
CREATED:20241009T214654Z
LAST-MODIFIED:20241009T214654Z
UID:10000356-1726416000-1726443000@junctionunderground.ca
SUMMARY:Rambler 🔥 Sabio 🔥 DollSteak 🔥 Vice Gardens 🔥 Sebastian Waits
DESCRIPTION:This Sunday\, Sept 15th we’re bringing you an epic lineup of live music! 5 killer bands\, 1 unforgettable afternoon! \nGet ready for: \n🔥 Rambler\n🔥 Sabio\n🔥 DollSteak\n🔥 Vice Gardens\n🔥 Sebastian Waits \nDoors open at 4 PM — come early and stay late to catch every note of these amazing performances!
URL:https://junctionunderground.ca/event/rambler-%f0%9f%94%a5-sabio-%f0%9f%94%a5-dollsteak-%f0%9f%94%a5-vice-gardens-%f0%9f%94%a5-sebastian-waits/
CATEGORIES:Bands & Solo Artists
END:VEVENT
BEGIN:VEVENT
DTSTART;TZID=America/Toronto:20240912T210000
DTEND;TZID=America/Toronto:20240912T233000
DTSTAMP:20260421T090044
CREATED:20241009T213605Z
LAST-MODIFIED:20241009T213605Z
UID:10000350-1726174800-1726183800@junctionunderground.ca
SUMMARY:Sons of Shanley\, You Might Be Sleeping\, and Ssunday
DESCRIPTION:🚨 LIVE this Thursday Sept 12! 🎸🎤 \nWe have :\n🎶 Sons of Shanley\n🎶 You Might Be Sleeping\n🎶 Ssunday \nThese bands are set to rock the stage with their killer performances! Don’t miss out on this epic lineup. \n🎟️ Tickets: $10\n⏰ Doors: 8 PM
URL:https://junctionunderground.ca/event/sons-of-shanley-you-might-be-sleeping-and-ssunday/
CATEGORIES:Bands & Solo Artists
END:VEVENT
BEGIN:VEVENT
DTSTART;TZID=America/Toronto:20240906T213000
DTEND;TZID=America/Toronto:20240907T020000
DTSTAMP:20260421T090044
CREATED:20240902T055742Z
LAST-MODIFIED:20240902T103425Z
UID:10000338-1725658200-1725674400@junctionunderground.ca
SUMMARY:The Queen is Dead: A Tribute to The Smiths
DESCRIPTION:The Queen is Dead is a The Smiths tribute band based locally.  \nHear them play the biggest hits from The Smiths and Morrissey‘s solo catalogue. \nBuy $12 Tickets  \nRSVP on Facebook \nPlease Follow: \n Instagram  Facebook  Youtube
URL:https://junctionunderground.ca/event/the-queen-is-dead-band-playing-the-sound-of-the-smiths/
LOCATION:Junction Underground\, 2907 Dundas St W\, Toronto\, ON\, M6P 1Z1
CATEGORIES:Bands & Solo Artists
ATTACH;FMTTYPE=image/jpeg:https://junctionunderground.ca/wp-content/uploads/2024/09/the-queen-is-dead.jpg
END:VEVENT
BEGIN:VEVENT
DTSTART;TZID=America/Toronto:20240830T200000
DTEND;TZID=America/Toronto:20240830T233000
DTSTAMP:20260421T090044
CREATED:20240829T194902Z
LAST-MODIFIED:20240829T194902Z
UID:10000337-1725048000-1725060600@junctionunderground.ca
SUMMARY:Unleash The Beast: Matthew Larabie\, Jackson Begley & Honduras Thompson
DESCRIPTION:🔥 Dive into the Underground with Damn Good Vibez this Friday🔥 \nGet ready to descend into the depths of musical ecstasy at Junction Underground this Friday\, August 30th at 8 PM! 🌌 \nPrepare yourself for an unforgettable night with the dynamic rhythms of Honduras Thompson\, the mesmerizing sounds of Matthew Larabie\, and the electrifying energy of Jackson Begley—all bringing you those Damn Good Vibes! 🎸🎷 \nThis is where the pulse of the underground beats strongest\, where the music is raw\, real\, and ready to move your soul. 🌊 \nBuy Tickets \n$10 Advance on Eventbrite| $15 Door. \nSecure your spot now because this night is set to be legendary. See you there—where the vibes are damn good and the music never stops. 🎶
URL:https://junctionunderground.ca/event/unleash-the-beast-matthew-larabie-jackson-begley-honduras-thompson/
LOCATION:Junction Underground\, 2907 Dundas St W\, Toronto\, ON\, M6P 1Z1
CATEGORIES:Bands & Solo Artists
ATTACH;FMTTYPE=image/jpeg:https://junctionunderground.ca/wp-content/uploads/2024/08/matthew-larabie-jackson-begley-thompson.jpg
ORGANIZER;CN="Junction Underground":MAILTO:info@junctionunderground.ca
END:VEVENT
BEGIN:VEVENT
DTSTART;TZID=America/Toronto:20240829T200000
DTEND;TZID=America/Toronto:20240829T230000
DTSTAMP:20260421T090044
CREATED:20240829T194422Z
LAST-MODIFIED:20240829T231356Z
UID:10000336-1724961600-1724972400@junctionunderground.ca
SUMMARY:Jazz and Poetry - EP Release by Chris Hercules!
DESCRIPTION:🎤 Jazz and Poetry this Thursday! \nJoin us for the EP Release of “Message Poetic” by Chris Hercules! \nExperience a night of powerful poetry\, Jazz  music\, and incredible vibes as Chris Hercules presents his latest work\, “Message Poetic.”  \nThis EP release party will feature an outstanding lineup of talented musicians: \n • Louis Botos Sr. on drums\n • Fabio Kutnowski on bass\n • Marco De La Cruz on keys\n • Yansi Alexavier on trumpet\n • James Griffith on saxophone\n • Chris Hercules himself on spoken word \nDon’t miss out on this unique event where poetry meets rhythm and soul. It’s a night that promises to be unforgettable! \nDoors open at 8 pm. \nBuy Tickets \n$15 tickets in advance or $20 at the door. \n \nchrisherculesmusic · I Got This
URL:https://junctionunderground.ca/event/jazz-and-poetry-ep-release-by-chris-hercules/
LOCATION:Junction Underground\, 2907 Dundas St W\, Toronto\, ON\, M6P 1Z1
CATEGORIES:Bands & Solo Artists
ATTACH;FMTTYPE=image/jpeg:https://junctionunderground.ca/wp-content/uploads/2024/08/massage-poetic.jpg
ORGANIZER;CN="Junction Underground":MAILTO:info@junctionunderground.ca
END:VEVENT
BEGIN:VEVENT
DTSTART;TZID=America/Toronto:20240816T210000
DTEND;TZID=America/Toronto:20240816T233000
DTSTAMP:20260421T090044
CREATED:20240815T175450Z
LAST-MODIFIED:20240815T181745Z
UID:10000267-1723842000-1723851000@junctionunderground.ca
SUMMARY:DAMN GOODVIBEZ PRESENTS: Improv & Airwaves
DESCRIPTION:Madlip\nElastic Ass\nDavid Nosh\nAMELIA EARHEARTS\nSONIC AVIARY \nAdvance Tickets $10 \n$15 (door) DOORS 9 PM
URL:https://junctionunderground.ca/event/damn-goodvibez-presents-improv-airwaves/
LOCATION:Junction Underground\, 2907 Dundas St W\, Toronto\, ON\, M6P 1Z1
CATEGORIES:Bands & Solo Artists
ATTACH;FMTTYPE=image/webp:https://junctionunderground.ca/wp-content/uploads/2024/08/improv-airwaves-2024-madlip-ju.webp
END:VEVENT
BEGIN:VEVENT
DTSTART;TZID=America/Toronto:20240808T200000
DTEND;TZID=America/Toronto:20240809T003000
DTSTAMP:20260421T090044
CREATED:20240806T171315Z
LAST-MODIFIED:20240808T194447Z
UID:10000002-1723147200-1723163400@junctionunderground.ca
SUMMARY:Ramblers\, Sabio\, Jasmine\, and Steeez LIVE
DESCRIPTION:🎸 Live This Thursday! \nWe welcome an incredible lineup to the Junction Underground stage! 🌟 \n🎤 Ramblers 🎸 Sabio 🌺 Jasmine & 🔥 Steeez \nDoors open at 8 PM.  \nPay What You Can at the door. \nRamblers:\nSoundtracks 1 by M Wall \nSabio:
URL:https://junctionunderground.ca/event/ramblers-sabio-jasmine-and-steeez-live/
LOCATION:Junction Underground\, 2907 Dundas St W\, Toronto\, ON\, M6P 1Z1
CATEGORIES:Bands & Solo Artists
ATTACH;FMTTYPE=image/png:https://junctionunderground.ca/wp-content/uploads/2024/08/ramblers-sabio-jasmine-steeez.png
END:VEVENT
BEGIN:VEVENT
DTSTART;TZID=America/Toronto:20240802T200000
DTEND;TZID=America/Toronto:20240802T233000
DTSTAMP:20260421T090044
CREATED:20240604T130051Z
LAST-MODIFIED:20250120T222510Z
UID:10000001-1722628800-1722641400@junctionunderground.ca
SUMMARY:The Surgicaly Hip & John Bridgens
DESCRIPTION:BUY TICKETS \nADV 10 • DOOR 15 • SHOW 9 PM \nThis Friday\, experience the magic of The Tragically Hip like never before with The Surgically Hip at The Junction Underground. Get ready to relive the hits and feel the spirit of Canada’s iconic band!  \nExpect an unforgettable night as The Surgically Hip brings all your favorite Hip songs to life with passion and precision. From “Ahead by a Century” to “Bobcaygeon\,” this is the ultimate tribute to Gord Downie and the gang. \nWhether you’re a long-time fan or new to The Hip’s legendary sound\, join us for a night of nostalgia\, energy\, and pure rock ‘n’ roll. Don’t miss out-secure your tickets now!
URL:https://junctionunderground.ca/event/the-surgicaly-hip/
LOCATION:Junction Underground\, 2907 Dundas St W\, Toronto\, ON\, M6P 1Z1
CATEGORIES:Bands & Solo Artists
END:VEVENT
END:VCALENDAR