BEGIN:VCALENDAR
VERSION:2.0
PRODID:-//JUNCTION UNDERGROUND - ECPv6.15.14//NONSGML v1.0//EN
CALSCALE:GREGORIAN
METHOD:PUBLISH
X-WR-CALNAME:JUNCTION UNDERGROUND
X-ORIGINAL-URL:https://junctionunderground.ca
X-WR-CALDESC:Events for JUNCTION UNDERGROUND
REFRESH-INTERVAL;VALUE=DURATION:PT1H
X-Robots-Tag:noindex
X-PUBLISHED-TTL:PT1H
BEGIN:VTIMEZONE
TZID:America/Toronto
BEGIN:DAYLIGHT
TZOFFSETFROM:-0500
TZOFFSETTO:-0400
TZNAME:EDT
DTSTART:20230312T070000
END:DAYLIGHT
BEGIN:STANDARD
TZOFFSETFROM:-0400
TZOFFSETTO:-0500
TZNAME:EST
DTSTART:20231105T060000
END:STANDARD
BEGIN:DAYLIGHT
TZOFFSETFROM:-0500
TZOFFSETTO:-0400
TZNAME:EDT
DTSTART:20240310T070000
END:DAYLIGHT
BEGIN:STANDARD
TZOFFSETFROM:-0400
TZOFFSETTO:-0500
TZNAME:EST
DTSTART:20241103T060000
END:STANDARD
BEGIN:DAYLIGHT
TZOFFSETFROM:-0500
TZOFFSETTO:-0400
TZNAME:EDT
DTSTART:20250309T070000
END:DAYLIGHT
BEGIN:STANDARD
TZOFFSETFROM:-0400
TZOFFSETTO:-0500
TZNAME:EST
DTSTART:20251102T060000
END:STANDARD
BEGIN:DAYLIGHT
TZOFFSETFROM:-0500
TZOFFSETTO:-0400
TZNAME:EDT
DTSTART:20260308T070000
END:DAYLIGHT
BEGIN:STANDARD
TZOFFSETFROM:-0400
TZOFFSETTO:-0500
TZNAME:EST
DTSTART:20261101T060000
END:STANDARD
END:VTIMEZONE
BEGIN:VEVENT
DTSTART;TZID=America/Toronto:20250314T200000
DTEND;TZID=America/Toronto:20250315T000000
DTSTAMP:20260424T231853
CREATED:20250311T214510Z
LAST-MODIFIED:20250312T133055Z
UID:10000444-1741982400-1741996800@junctionunderground.ca
SUMMARY:🔥💃 FRIDAY I’M IN LOVE! 💃🔥
DESCRIPTION:Get ready for a retro video dance party at Junction Underground! 🕺✨ DJ s.i.s. will spin the best throwback tunes while the visuals take you on a nostalgic ride. Let’s dance and spread the love! ❤️ \n⏰ Doors at 8 PM\n💰 All love. No cover. \nRSVP on Facebook
URL:https://junctionunderground.ca/event/%f0%9f%94%a5%f0%9f%92%83-friday-im-in-love-%f0%9f%92%83%f0%9f%94%a5/
LOCATION:Junction Underground\, 2907 Dundas St W\, Toronto\, ON\, M6P 1Z1
CATEGORIES:Dance Party
ATTACH;FMTTYPE=image/webp:https://junctionunderground.ca/wp-content/uploads/2025/03/st-paddys-day-party-is-almost-here-junction-5.webp
END:VEVENT
BEGIN:VEVENT
DTSTART;TZID=America/Toronto:20240906T213000
DTEND;TZID=America/Toronto:20240907T020000
DTSTAMP:20260424T231853
CREATED:20240902T055742Z
LAST-MODIFIED:20240902T103425Z
UID:10000338-1725658200-1725674400@junctionunderground.ca
SUMMARY:The Queen is Dead: A Tribute to The Smiths
DESCRIPTION:The Queen is Dead is a The Smiths tribute band based locally.  \nHear them play the biggest hits from The Smiths and Morrissey‘s solo catalogue. \nBuy $12 Tickets  \nRSVP on Facebook \nPlease Follow: \n Instagram  Facebook  Youtube
URL:https://junctionunderground.ca/event/the-queen-is-dead-band-playing-the-sound-of-the-smiths/
LOCATION:Junction Underground\, 2907 Dundas St W\, Toronto\, ON\, M6P 1Z1
CATEGORIES:Bands & Solo Artists
ATTACH;FMTTYPE=image/jpeg:https://junctionunderground.ca/wp-content/uploads/2024/09/the-queen-is-dead.jpg
END:VEVENT
END:VCALENDAR