BEGIN:VCALENDAR
VERSION:2.0
PRODID:-//JUNCTION UNDERGROUND - ECPv6.15.14//NONSGML v1.0//EN
CALSCALE:GREGORIAN
METHOD:PUBLISH
X-ORIGINAL-URL:https://junctionunderground.ca
X-WR-CALDESC:Events for JUNCTION UNDERGROUND
REFRESH-INTERVAL;VALUE=DURATION:PT1H
X-Robots-Tag:noindex
X-PUBLISHED-TTL:PT1H
BEGIN:VTIMEZONE
TZID:America/Toronto
BEGIN:DAYLIGHT
TZOFFSETFROM:-0500
TZOFFSETTO:-0400
TZNAME:EDT
DTSTART:20230312T070000
END:DAYLIGHT
BEGIN:STANDARD
TZOFFSETFROM:-0400
TZOFFSETTO:-0500
TZNAME:EST
DTSTART:20231105T060000
END:STANDARD
BEGIN:DAYLIGHT
TZOFFSETFROM:-0500
TZOFFSETTO:-0400
TZNAME:EDT
DTSTART:20240310T070000
END:DAYLIGHT
BEGIN:STANDARD
TZOFFSETFROM:-0400
TZOFFSETTO:-0500
TZNAME:EST
DTSTART:20241103T060000
END:STANDARD
BEGIN:DAYLIGHT
TZOFFSETFROM:-0500
TZOFFSETTO:-0400
TZNAME:EDT
DTSTART:20250309T070000
END:DAYLIGHT
BEGIN:STANDARD
TZOFFSETFROM:-0400
TZOFFSETTO:-0500
TZNAME:EST
DTSTART:20251102T060000
END:STANDARD
BEGIN:DAYLIGHT
TZOFFSETFROM:-0500
TZOFFSETTO:-0400
TZNAME:EDT
DTSTART:20260308T070000
END:DAYLIGHT
BEGIN:STANDARD
TZOFFSETFROM:-0400
TZOFFSETTO:-0500
TZNAME:EST
DTSTART:20261101T060000
END:STANDARD
END:VTIMEZONE
BEGIN:VEVENT
DTSTART;TZID=America/Toronto:20250418T200000
DTEND;TZID=America/Toronto:20250419T020000
DTSTAMP:20260425T175000
CREATED:20250415T030839Z
LAST-MODIFIED:20250415T083919Z
UID:10000460-1745006400-1745028000@junctionunderground.ca
SUMMARY:SUMMING II: HOUSE THE FAMILY: Malik Lindo [NYC]\, DJ French Thomas\, & Ami 8
DESCRIPTION:This Friday Night!\nNO COVER! \nIntroducing the second installment of the SUMMING event series: HOUSE THE FAMILY?  \nAmi 8\, DJ French Thomas\, and Malik Lindo reunite for a night of deep\, atmospheric\, soulful and Afro house. Sultry\, sweaty\, hedonistic vibes all night\, channelling debauched soirées à la Brooklyn\, Manhattan and Paris.  \nBring the family and let there be house.
URL:https://junctionunderground.ca/event/ami-8-presents-summing-ev-002-house-the-family/
LOCATION:Junction Underground\, 2907 Dundas St W\, Toronto\, ON\, M6P 1Z1
CATEGORIES:Electronic Music
ATTACH;FMTTYPE=image/jpeg:https://junctionunderground.ca/wp-content/uploads/2025/04/ami-8-presents-summing-ev-002-house-the-family-jun.webp
END:VEVENT
BEGIN:VEVENT
DTSTART;TZID=America/Toronto:20250222T220000
DTEND;TZID=America/Toronto:20250223T023000
DTSTAMP:20260425T175000
CREATED:20250209T170550Z
LAST-MODIFIED:20250215T131913Z
UID:10000428-1740261600-1740277800@junctionunderground.ca
SUMMARY:RUUTED: Corey Dawkins and Leo Love
DESCRIPTION:Buy Tickets  \nCOREY DAWKINS & LEO LOVE.\nPERCUSSION BY: OXLEY & SMYTH \nLike on:\nFacebook\, Instagram\, Resident Advisor
URL:https://junctionunderground.ca/event/ruuted-corey-dawkins-x-leo-love/
LOCATION:Junction Underground\, 2907 Dundas St W\, Toronto\, ON\, M6P 1Z1
CATEGORIES:Electronic Music
ATTACH;FMTTYPE=image/avif:https://junctionunderground.ca/wp-content/uploads/2025/02/black-flyer-for-ruuted-event-feb22.avif
END:VEVENT
BEGIN:VEVENT
DTSTART;TZID=America/Toronto:20240809T210000
DTEND;TZID=America/Toronto:20240810T030000
DTSTAMP:20260425T175000
CREATED:20240808T011201Z
LAST-MODIFIED:20240808T145350Z
UID:10000004-1723237200-1723258800@junctionunderground.ca
SUMMARY:Sonic Vibes Presents: Afro\, House & Techno Night!
DESCRIPTION:Join us for the inaugural Sonic Vibes event\, a sensational night dedicated to the rhythms of Afro House\, Tech House\, and Techno\, at the iconic Junction Underground in Toronto. Mark your calendars for Friday\, August 9th\, 2024\, and prepare for an unforgettable musical journey! \nBuy Tickets: $15 \nLineup: \nCheeooW: Kicking off the night with an electrifying blend of Afro House & Techno\, CheeooW will set the perfect tone with pulsating beats and vibrant melodies.\n[soundcloud]https://soundcloud.com/cheeoow?utm_source=clipboard&utm_medium=text&utm_campaign=social_sharing[/soundcloud]\n \nWelltek: Transitioning into the heart of the night\, Welltek will take you on a sonic adventure with his unique Tech House sounds\, guaranteed to keep you moving. [soundcloud]https://soundcloud.com/chriswell-rodrigues/tracks[/soundcloud]\n \nMatt Dylan: Ending the night with a bang\, Matt Dylan will immerse you in the deep\, hypnotic sounds of Techno\, ensuring an epic finale. [soundcloud]https://soundcloud.com/itsmattdylan/tracks[/soundcloud] \nPrepare for an evening filled with high-energy music\, mesmerizing light displays\, and an atmosphere that will keep you dancing all night long. Whether you’re a fan of Afro House\, Tech House\, or Techno\, this event promises a diverse and dynamic musical experience that you won’t want to miss. \nTickets: Available now! Secure your spot and be part of this incredible night. \nLet the beats guide you and the music elevate you at Sonic Vibes’ first-ever event. See you on the dance floor!
URL:https://junctionunderground.ca/event/sonic-vibes-afro-house-techno-night/
LOCATION:Junction Underground\, 2907 Dundas St W\, Toronto\, ON\, M6P 1Z1
CATEGORIES:Electronic Music
ATTACH;FMTTYPE=image/png:https://junctionunderground.ca/wp-content/uploads/2024/08/sonic-vibes-afro-house-techno-night.png
ORGANIZER;CN="Sonic Vibes":MAILTO:sonic.vibes.toronto@gmail.com
END:VEVENT
END:VCALENDAR