BEGIN:VCALENDAR
VERSION:2.0
PRODID:-//JUNCTION UNDERGROUND - ECPv6.15.14//NONSGML v1.0//EN
CALSCALE:GREGORIAN
METHOD:PUBLISH
X-WR-CALNAME:JUNCTION UNDERGROUND
X-ORIGINAL-URL:https://junctionunderground.ca
X-WR-CALDESC:Events for JUNCTION UNDERGROUND
REFRESH-INTERVAL;VALUE=DURATION:PT1H
X-Robots-Tag:noindex
X-PUBLISHED-TTL:PT1H
BEGIN:VTIMEZONE
TZID:America/Toronto
BEGIN:DAYLIGHT
TZOFFSETFROM:-0500
TZOFFSETTO:-0400
TZNAME:EDT
DTSTART:20240310T070000
END:DAYLIGHT
BEGIN:STANDARD
TZOFFSETFROM:-0400
TZOFFSETTO:-0500
TZNAME:EST
DTSTART:20241103T060000
END:STANDARD
BEGIN:DAYLIGHT
TZOFFSETFROM:-0500
TZOFFSETTO:-0400
TZNAME:EDT
DTSTART:20250309T070000
END:DAYLIGHT
BEGIN:STANDARD
TZOFFSETFROM:-0400
TZOFFSETTO:-0500
TZNAME:EST
DTSTART:20251102T060000
END:STANDARD
BEGIN:DAYLIGHT
TZOFFSETFROM:-0500
TZOFFSETTO:-0400
TZNAME:EDT
DTSTART:20260308T070000
END:DAYLIGHT
BEGIN:STANDARD
TZOFFSETFROM:-0400
TZOFFSETTO:-0500
TZNAME:EST
DTSTART:20261101T060000
END:STANDARD
END:VTIMEZONE
BEGIN:VEVENT
DTSTART;TZID=America/Toronto:20250523T203000
DTEND;TZID=America/Toronto:20250524T010000
DTSTAMP:20260425T080557
CREATED:20250518T181354Z
LAST-MODIFIED:20250522T151703Z
UID:10000472-1748032200-1748048400@junctionunderground.ca
SUMMARY:JUNCTION416 Presents: V6IX COMMUNITY (Alyssa Messina\, The Guy & City Circuits)
DESCRIPTION:JUNCTION416 continues its ongoing monthly music series in The Junction with V6ix Community. The band released their debut album “Organico” in 2023 with a handful of video singles online. Their smash hit “Fu** Off” blends elements of rap\, synth\, and rock in a playful manner much like Urban Dance Squad did in their track Demagogue. Catch V6ix Community along with Alyssa Messina\, The Guy\, and City Circuits on Friday\, May 23\, at Junction Underground. \njunction416 presents:\nV6IX COMMUNITY \nFriday\, May 23\nDoors 8:30 pm\n19+\n$15 door \nWith supporting artists:\nAlyssa Messina\nThe Guy\nCity Circuits \nSchedule\n9:00-9:30pm CITY CIRCUITS\n9:45-10:30pm THE GUY\n10:45-11:30pm ALYSSA MESSINA\n11:45-12:30am V6IX COMMUNITY \n \nThe monthly music series features emerging and locally established musicians at venues within The Junction all year long. There’s always something special each month! \nAre you a musician or in a band and interested in performing in The Junction? Check out junction416.com or email: junction416booking@gmail.com!
URL:https://junctionunderground.ca/event/junction416-v6ix-community/
LOCATION:Junction Underground\, 2907 Dundas St W\, Toronto\, ON\, M6P 1Z1
CATEGORIES:Bands & Solo Artists
ATTACH;FMTTYPE=image/jpeg:https://junctionunderground.ca/wp-content/uploads/2025/05/junction416-junction-v6ix-instagram-poster-scaled.webp
END:VEVENT
BEGIN:VEVENT
DTSTART;TZID=America/Toronto:20250214T200000
DTEND;TZID=America/Toronto:20250215T020000
DTSTAMP:20260425T080557
CREATED:20250211T134115Z
LAST-MODIFIED:20250301T031545Z
UID:10000431-1739563200-1739584800@junctionunderground.ca
SUMMARY:BRITPOP VIDEO VALENTINE’S
DESCRIPTION:NO COVER \nCalling all couples\, singles\, friends and even unicorns 🦄 Love is in the air\, and so is the sound of Britpop! 🇬🇧🎶 and other cool music. Spend Valentine’s Day with a night packed full of iconic Britpop anthems and more! \n🎶 Live DJs spinning Britpop classics + indie & alternative gems\n💃 Come solo\, bring a date\, and come with your mates \nhttps://www.instagram.com/p/DF6TL0fyXgr/
URL:https://junctionunderground.ca/event/britpop-video-valentines/
LOCATION:Junction Underground\, 2907 Dundas St W\, Toronto\, ON\, M6P 1Z1
CATEGORIES:Dance Party
ATTACH;FMTTYPE=image/jpeg:https://junctionunderground.ca/wp-content/uploads/2025/02/junction-feb-britpop.webp
END:VEVENT
END:VCALENDAR