BEGIN:VCALENDAR
VERSION:2.0
PRODID:-//JUNCTION UNDERGROUND - ECPv6.15.14//NONSGML v1.0//EN
CALSCALE:GREGORIAN
METHOD:PUBLISH
X-WR-CALNAME:JUNCTION UNDERGROUND
X-ORIGINAL-URL:https://junctionunderground.ca
X-WR-CALDESC:Events for JUNCTION UNDERGROUND
REFRESH-INTERVAL;VALUE=DURATION:PT1H
X-Robots-Tag:noindex
X-PUBLISHED-TTL:PT1H
BEGIN:VTIMEZONE
TZID:America/Toronto
BEGIN:DAYLIGHT
TZOFFSETFROM:-0500
TZOFFSETTO:-0400
TZNAME:EDT
DTSTART:20240310T070000
END:DAYLIGHT
BEGIN:STANDARD
TZOFFSETFROM:-0400
TZOFFSETTO:-0500
TZNAME:EST
DTSTART:20241103T060000
END:STANDARD
BEGIN:DAYLIGHT
TZOFFSETFROM:-0500
TZOFFSETTO:-0400
TZNAME:EDT
DTSTART:20250309T070000
END:DAYLIGHT
BEGIN:STANDARD
TZOFFSETFROM:-0400
TZOFFSETTO:-0500
TZNAME:EST
DTSTART:20251102T060000
END:STANDARD
BEGIN:DAYLIGHT
TZOFFSETFROM:-0500
TZOFFSETTO:-0400
TZNAME:EDT
DTSTART:20260308T070000
END:DAYLIGHT
BEGIN:STANDARD
TZOFFSETFROM:-0400
TZOFFSETTO:-0500
TZNAME:EST
DTSTART:20261101T060000
END:STANDARD
END:VTIMEZONE
BEGIN:VEVENT
DTSTART;TZID=America/Toronto:20250328T200000
DTEND;TZID=America/Toronto:20250329T020000
DTSTAMP:20260425T091548
CREATED:20250228T210915Z
LAST-MODIFIED:20250328T042635Z
UID:10000439-1743192000-1743213600@junctionunderground.ca
SUMMARY:Rec League & Alicia & The Keys: Live takes on your favourite tunes! 🎸🎤
DESCRIPTION:🎟️ $13 Online (+HST\, CC) / $15 at Door \nIt’s game time on Friday\, March 28th\, with a major league lineup of hits across the decades! \nFrom The Beatles to Hozier\, The Killers to Kelly Clarkson\, Fleetwood Mac to Chappell Roan – Rec League is bringing their A-game with all your favourite tunes! \nWarming up the crowd: ALICIA & THE KEYS will be knocking it out of the park with their unique combination of danceable covers with an 80s Diva-esque edge! \n🎸 TOP 40 HITS\, MULTIPLE DECADES!🎤 \n📍 Friday\, March 28th\n⏰ Doors 8:30 pm ★ Music 9:30 pm \n🏆 Don’t get caught on the sidelines – grab your squad and come press [play] on this dancefloor-winning playlist!
URL:https://junctionunderground.ca/event/recleague-alicia-thekeys-covers/
LOCATION:Junction Underground\, 2907 Dundas St W\, Toronto\, ON\, M6P 1Z1
CATEGORIES:Bands & Solo Artists,Dance Party
ATTACH;FMTTYPE=image/webp:https://junctionunderground.ca/wp-content/uploads/2025/03/st-paddys-day-party-is-almost-here-junction-4.webp
END:VEVENT
END:VCALENDAR