BEGIN:VCALENDAR
VERSION:2.0
PRODID:-//JUNCTION UNDERGROUND - ECPv6.15.14//NONSGML v1.0//EN
CALSCALE:GREGORIAN
METHOD:PUBLISH
X-ORIGINAL-URL:https://junctionunderground.ca
X-WR-CALDESC:Events for JUNCTION UNDERGROUND
REFRESH-INTERVAL;VALUE=DURATION:PT1H
X-Robots-Tag:noindex
X-PUBLISHED-TTL:PT1H
BEGIN:VTIMEZONE
TZID:America/Toronto
BEGIN:DAYLIGHT
TZOFFSETFROM:-0500
TZOFFSETTO:-0400
TZNAME:EDT
DTSTART:20240310T070000
END:DAYLIGHT
BEGIN:STANDARD
TZOFFSETFROM:-0400
TZOFFSETTO:-0500
TZNAME:EST
DTSTART:20241103T060000
END:STANDARD
BEGIN:DAYLIGHT
TZOFFSETFROM:-0500
TZOFFSETTO:-0400
TZNAME:EDT
DTSTART:20250309T070000
END:DAYLIGHT
BEGIN:STANDARD
TZOFFSETFROM:-0400
TZOFFSETTO:-0500
TZNAME:EST
DTSTART:20251102T060000
END:STANDARD
BEGIN:DAYLIGHT
TZOFFSETFROM:-0500
TZOFFSETTO:-0400
TZNAME:EDT
DTSTART:20260308T070000
END:DAYLIGHT
BEGIN:STANDARD
TZOFFSETFROM:-0400
TZOFFSETTO:-0500
TZNAME:EST
DTSTART:20261101T060000
END:STANDARD
END:VTIMEZONE
BEGIN:VEVENT
DTSTART;TZID=America/Toronto:20250223T160000
DTEND;TZID=America/Toronto:20250223T233000
DTSTAMP:20260426T003205
CREATED:20250209T203305Z
LAST-MODIFIED:20250213T141429Z
UID:10000429-1740326400-1740353400@junctionunderground.ca
SUMMARY:Over & Over & Group Benefits: Sunday Day Jam
DESCRIPTION:Buy Tickets $15-$20  \n$20 at door.  \nAfternoon of Vinyl only. Disco & Deep House in the heart of The Junction with a KV2 Audio Sound System. \nLINEUP:\nGROUP BENEFITS (Jodie & Janina Marie)\nPOOYAN\nALI BLACK \n \nGroupobene · Group Benefits – Live at Little Jerry September 2023\n \nSmall Jerry · DJ Ali Black mix for Jerry February 2023.mp3
URL:https://junctionunderground.ca/event/over-over-sunday-day-jam-group-benefits/
LOCATION:Junction Underground\, 2907 Dundas St W\, Toronto\, ON\, M6P 1Z1
CATEGORIES:Electronic Music
ATTACH;FMTTYPE=image/webp:https://junctionunderground.ca/wp-content/uploads/2025/02/over-over-sunday-day-jam-group-benefits.avif
END:VEVENT
END:VCALENDAR