BEGIN:VCALENDAR
VERSION:2.0
PRODID:-//JUNCTION UNDERGROUND - ECPv6.15.14//NONSGML v1.0//EN
CALSCALE:GREGORIAN
METHOD:PUBLISH
X-ORIGINAL-URL:https://junctionunderground.ca
X-WR-CALDESC:Events for JUNCTION UNDERGROUND
REFRESH-INTERVAL;VALUE=DURATION:PT1H
X-Robots-Tag:noindex
X-PUBLISHED-TTL:PT1H
BEGIN:VTIMEZONE
TZID:America/Toronto
BEGIN:DAYLIGHT
TZOFFSETFROM:-0500
TZOFFSETTO:-0400
TZNAME:EDT
DTSTART:20230312T070000
END:DAYLIGHT
BEGIN:STANDARD
TZOFFSETFROM:-0400
TZOFFSETTO:-0500
TZNAME:EST
DTSTART:20231105T060000
END:STANDARD
BEGIN:DAYLIGHT
TZOFFSETFROM:-0500
TZOFFSETTO:-0400
TZNAME:EDT
DTSTART:20240310T070000
END:DAYLIGHT
BEGIN:STANDARD
TZOFFSETFROM:-0400
TZOFFSETTO:-0500
TZNAME:EST
DTSTART:20241103T060000
END:STANDARD
BEGIN:DAYLIGHT
TZOFFSETFROM:-0500
TZOFFSETTO:-0400
TZNAME:EDT
DTSTART:20250309T070000
END:DAYLIGHT
BEGIN:STANDARD
TZOFFSETFROM:-0400
TZOFFSETTO:-0500
TZNAME:EST
DTSTART:20251102T060000
END:STANDARD
END:VTIMEZONE
BEGIN:VEVENT
DTSTART;TZID=America/Toronto:20241017T180000
DTEND;TZID=America/Toronto:20241018T000000
DTSTAMP:20260425T133858
CREATED:20240910T123650Z
LAST-MODIFIED:20241015T180013Z
UID:10000339-1729188000-1729209600@junctionunderground.ca
SUMMARY:Dan Lee on Hot Spot Radio
DESCRIPTION:DJ Dan Lee · Dan Lee @ Summer Camp 2024 Live\nThis Thursday is Hot Spot Radio 011! 🎧 \nJoin Burnin’ Vernon as she brings you LIVE sets\, guest DJs and unique stories behind the tracks played on Hot Spot Radio. \nHappy 2 hour drink special from 6pm to 8pm!!!!! \nOn October 17th\, we’re lighting up Junction Underground with an incredible lineup that will leave you buzzing! 🚨 \n🔥 Dan Lee will be headlining\, bringing his signature sound to keep you moving all night.\n🔥 Backed by the talents of Michigan Left\, Delicia\, and Chambs\, expect an immersive musical journey like no other! \n🗓️ Save the date:\n🕕 Thursday\, Oct 17\n⏰ 6 PM – 12 AM\n📍 Junction Underground \nJoin us for an evening of infectious beats and unforgettable energy. Let’s create some electrifying moments together! 🎶💥
URL:https://junctionunderground.ca/event/dan-lee-on-hot-spot-radio-011/
LOCATION:Junction Underground\, 2907 Dundas St W\, Toronto\, ON\, M6P 1Z1
CATEGORIES:Electronic Music
ATTACH;FMTTYPE=image/jpeg:https://junctionunderground.ca/wp-content/uploads/2024/09/dan-lee-on-hot-spot-radio-011.jpg
END:VEVENT
END:VCALENDAR