BEGIN:VCALENDAR
VERSION:2.0
PRODID:-//JUNCTION UNDERGROUND - ECPv6.15.14//NONSGML v1.0//EN
CALSCALE:GREGORIAN
METHOD:PUBLISH
X-ORIGINAL-URL:https://junctionunderground.ca
X-WR-CALDESC:Events for JUNCTION UNDERGROUND
REFRESH-INTERVAL;VALUE=DURATION:PT1H
X-Robots-Tag:noindex
X-PUBLISHED-TTL:PT1H
BEGIN:VTIMEZONE
TZID:America/Toronto
BEGIN:DAYLIGHT
TZOFFSETFROM:-0500
TZOFFSETTO:-0400
TZNAME:EDT
DTSTART:20230312T070000
END:DAYLIGHT
BEGIN:STANDARD
TZOFFSETFROM:-0400
TZOFFSETTO:-0500
TZNAME:EST
DTSTART:20231105T060000
END:STANDARD
BEGIN:DAYLIGHT
TZOFFSETFROM:-0500
TZOFFSETTO:-0400
TZNAME:EDT
DTSTART:20240310T070000
END:DAYLIGHT
BEGIN:STANDARD
TZOFFSETFROM:-0400
TZOFFSETTO:-0500
TZNAME:EST
DTSTART:20241103T060000
END:STANDARD
BEGIN:DAYLIGHT
TZOFFSETFROM:-0500
TZOFFSETTO:-0400
TZNAME:EDT
DTSTART:20250309T070000
END:DAYLIGHT
BEGIN:STANDARD
TZOFFSETFROM:-0400
TZOFFSETTO:-0500
TZNAME:EST
DTSTART:20251102T060000
END:STANDARD
END:VTIMEZONE
BEGIN:VEVENT
DTSTART;TZID=America/Toronto:20241026T213000
DTEND;TZID=America/Toronto:20241026T213000
DTSTAMP:20260425T192114
CREATED:20240925T202721Z
LAST-MODIFIED:20241024T005318Z
UID:10000341-1729978200-1729978200@junctionunderground.ca
SUMMARY:THE RAVEN: A VICTORIAN GOTHIC TALE
DESCRIPTION:Journey into the twisted world of a Victorian Gothic Tale at the Junction Underground. Prepare for a night of spooky glamour\, bone-chilling beats\, and ghostly delights. Get ready to unleash your inner ghoul and party with the underworld’s finest. This is one event you won’t want to miss.  \nSet times: Dan & Blair (9:30 PM – 10:30 PM)\, DELICIA (10:30 PM – 11:45 PM)\, DJ WILL-E (11:45 PM – 1:00 AM)\, Aleksandra (1:00 AM – 3:00 AM)\, and Baker. (3:00 AM – Close).  \nBuy Tickets \n  \nFeatured Artists: \n\nALEKSANDRA  1:00 AM – 3:00 AM   Soundcloud\nAleksandra’s innate music sense and dedication to her craft make her a force to be reckoned with in the electronic music world. Her signature style is a fusion of punchy tech house\, progressive\, and melodic vibes\, selectively sprinkled with familiar vocals or samples that keep the crowd moving all night long. Aleksandra opened for the likes of Chris Lake\, Nora en Pure\, Steve Porter and Alex Kenji\, and has been on the same bill as Sasha\, Erick Morillo\, Hernan Cattaneo\, John Acquaviva\, Benny Benassi\, and Ferry Corsten to name a few. \n \n\nBAKER.  3:00 AM – Close   Hearthis\nMark Baker\, now a fixture in Toronto’s underground music scene\, has mastered DJing and delivers dynamic performances. His music journey took a defining turn in 1999 when he discovered Toronto’s System Sound Bar\, igniting his passion for house and techno. He hones his slick selector capabilities and gives his all to every show mixing genres to diverse crowds. \n \n\nDELICIA  10:30 PM – 11:45 PM   Mixcloud\nDelicia is a Toronto-based music enthusiast\, known for mixing smooth melodies and rugged basslines to create an electrifying experience on the dance floor. Her infectious energy and passion for music are evident in every set\, delivering beats and bass that will keep you moving. With her seamless mixes and bouncy rhythms\, she knows exactly how to get the crowd grooving all night long. \n \n\nWILL-E  11:45 PM – 1:00 AM   Facebook\nwill-e has carved out a micro-niche in the underground music scene\, known for delivering deep\, bumpy basslines and infectious\, funky beats that keeps the dance floor bouncing. \n \n\n Dan Lee\n Blair Williams\nD & B   9:30 PM – 10:30 PM  \n  \nBuy Tickets Facebook Event
URL:https://junctionunderground.ca/event/the-raven-halloween/
LOCATION:Junction Underground\, 2907 Dundas St W\, Toronto\, ON\, M6P 1Z1
CATEGORIES:Electronic Music
ATTACH;FMTTYPE=image/webp:https://junctionunderground.ca/wp-content/uploads/2024/09/halloween-junction-underg-2024-sq-.webp
END:VEVENT
END:VCALENDAR