BEGIN:VCALENDAR
VERSION:2.0
PRODID:-//JUNCTION UNDERGROUND - ECPv6.15.14//NONSGML v1.0//EN
CALSCALE:GREGORIAN
METHOD:PUBLISH
X-WR-CALNAME:JUNCTION UNDERGROUND
X-ORIGINAL-URL:https://junctionunderground.ca
X-WR-CALDESC:Events for JUNCTION UNDERGROUND
REFRESH-INTERVAL;VALUE=DURATION:PT1H
X-Robots-Tag:noindex
X-PUBLISHED-TTL:PT1H
BEGIN:VTIMEZONE
TZID:America/Toronto
BEGIN:DAYLIGHT
TZOFFSETFROM:-0500
TZOFFSETTO:-0400
TZNAME:EDT
DTSTART:20230312T070000
END:DAYLIGHT
BEGIN:STANDARD
TZOFFSETFROM:-0400
TZOFFSETTO:-0500
TZNAME:EST
DTSTART:20231105T060000
END:STANDARD
BEGIN:DAYLIGHT
TZOFFSETFROM:-0500
TZOFFSETTO:-0400
TZNAME:EDT
DTSTART:20240310T070000
END:DAYLIGHT
BEGIN:STANDARD
TZOFFSETFROM:-0400
TZOFFSETTO:-0500
TZNAME:EST
DTSTART:20241103T060000
END:STANDARD
BEGIN:DAYLIGHT
TZOFFSETFROM:-0500
TZOFFSETTO:-0400
TZNAME:EDT
DTSTART:20250309T070000
END:DAYLIGHT
BEGIN:STANDARD
TZOFFSETFROM:-0400
TZOFFSETTO:-0500
TZNAME:EST
DTSTART:20251102T060000
END:STANDARD
END:VTIMEZONE
BEGIN:VEVENT
DTSTART;TZID=America/Toronto:20241013T213000
DTEND;TZID=America/Toronto:20241013T213000
DTSTAMP:20260425T112507
CREATED:20241009T204407Z
LAST-MODIFIED:20241009T213036Z
UID:10000343-1728855000-1728855000@junctionunderground.ca
SUMMARY:Noche De Cabaret!
DESCRIPTION:📅 Save the Date: Sunday\, October 13\, 2024\n📍 Venue: Junction Underground | 2907 Dundas St W\, Toronto\n⏰ Doors Open: 9:30 PM \nJoin us for Hora de Boleros and live performances filled with the irresistible rhythms of Salsa\, Bachata\, Merengue\, and Cumbia. Let’s dance the night away and embrace the Latin beats in the heart of Toronto! 💃🕺 \n🎤 Live Performances\n🔥 Dance to the best Latin vibes\n✨ Incredible atmosphere with booths available for the ultimate cabaret experience\n🎟️ 19+ event\, cover charge at the door. \n💬 Tag your dance crew and let’s make it a night to remember!\n📲 DM for booth reservations.
URL:https://junctionunderground.ca/event/noche-de-cabaret/
LOCATION:Junction Underground\, 2907 Dundas St W\, Toronto\, ON\, M6P 1Z1
CATEGORIES:Dance Party
ATTACH;FMTTYPE=image/jpeg:https://junctionunderground.ca/wp-content/uploads/2024/10/Screenshot-2024-10-09-at-4.24.50 PM.jpg
END:VEVENT
END:VCALENDAR