BEGIN:VCALENDAR
VERSION:2.0
PRODID:-//JUNCTION UNDERGROUND - ECPv6.15.14//NONSGML v1.0//EN
CALSCALE:GREGORIAN
METHOD:PUBLISH
X-WR-CALNAME:JUNCTION UNDERGROUND
X-ORIGINAL-URL:https://junctionunderground.ca
X-WR-CALDESC:Events for JUNCTION UNDERGROUND
REFRESH-INTERVAL;VALUE=DURATION:PT1H
X-Robots-Tag:noindex
X-PUBLISHED-TTL:PT1H
BEGIN:VTIMEZONE
TZID:America/Toronto
BEGIN:DAYLIGHT
TZOFFSETFROM:-0500
TZOFFSETTO:-0400
TZNAME:EDT
DTSTART:20230312T070000
END:DAYLIGHT
BEGIN:STANDARD
TZOFFSETFROM:-0400
TZOFFSETTO:-0500
TZNAME:EST
DTSTART:20231105T060000
END:STANDARD
BEGIN:DAYLIGHT
TZOFFSETFROM:-0500
TZOFFSETTO:-0400
TZNAME:EDT
DTSTART:20240310T070000
END:DAYLIGHT
BEGIN:STANDARD
TZOFFSETFROM:-0400
TZOFFSETTO:-0500
TZNAME:EST
DTSTART:20241103T060000
END:STANDARD
BEGIN:DAYLIGHT
TZOFFSETFROM:-0500
TZOFFSETTO:-0400
TZNAME:EDT
DTSTART:20250309T070000
END:DAYLIGHT
BEGIN:STANDARD
TZOFFSETFROM:-0400
TZOFFSETTO:-0500
TZNAME:EST
DTSTART:20251102T060000
END:STANDARD
END:VTIMEZONE
BEGIN:VEVENT
DTSTART;TZID=America/Toronto:20240927T200000
DTEND;TZID=America/Toronto:20240927T233000
DTSTAMP:20260425T113153
CREATED:20241009T214451Z
LAST-MODIFIED:20241009T214451Z
UID:10000355-1727467200-1727479800@junctionunderground.ca
SUMMARY:Retro Video Dance Party
DESCRIPTION:🖤 This Friday! Get ready to dance like your a teenager at our Retro Video Dance Party 🖤 \n📺 Step into a night of nostalgia as DJ SeLaVie spins iconic tracks\, with the videos to match! Think Joy Division\, Siouxsie and the Banshees\, and all the moody\, edgy vibes you crave. \n🕗 Kicking off at 8 PM – come early\, stay late\, and lose yourself on the dance floor.\n📍 Location: Junction Underground\n🎟️ Limited spots – don’t miss it! \nLet’s make this night legendary. Who’s in? 👁‍🗨 #PostPunkRevival #RetroVibes #DanceParty #DJSeLaVie #NewWaveNight #UndergroundDanceScene
URL:https://junctionunderground.ca/event/retro-video-dance-party/
LOCATION:Junction Underground\, 2907 Dundas St W\, Toronto\, ON\, M6P 1Z1
CATEGORIES:Dance Party
END:VEVENT
END:VCALENDAR