BEGIN:VCALENDAR
VERSION:2.0
PRODID:-//JUNCTION UNDERGROUND - ECPv6.15.14//NONSGML v1.0//EN
CALSCALE:GREGORIAN
METHOD:PUBLISH
X-ORIGINAL-URL:https://junctionunderground.ca
X-WR-CALDESC:Events for JUNCTION UNDERGROUND
REFRESH-INTERVAL;VALUE=DURATION:PT1H
X-Robots-Tag:noindex
X-PUBLISHED-TTL:PT1H
BEGIN:VTIMEZONE
TZID:America/Toronto
BEGIN:DAYLIGHT
TZOFFSETFROM:-0500
TZOFFSETTO:-0400
TZNAME:EDT
DTSTART:20230312T070000
END:DAYLIGHT
BEGIN:STANDARD
TZOFFSETFROM:-0400
TZOFFSETTO:-0500
TZNAME:EST
DTSTART:20231105T060000
END:STANDARD
BEGIN:DAYLIGHT
TZOFFSETFROM:-0500
TZOFFSETTO:-0400
TZNAME:EDT
DTSTART:20240310T070000
END:DAYLIGHT
BEGIN:STANDARD
TZOFFSETFROM:-0400
TZOFFSETTO:-0500
TZNAME:EST
DTSTART:20241103T060000
END:STANDARD
BEGIN:DAYLIGHT
TZOFFSETFROM:-0500
TZOFFSETTO:-0400
TZNAME:EDT
DTSTART:20250309T070000
END:DAYLIGHT
BEGIN:STANDARD
TZOFFSETFROM:-0400
TZOFFSETTO:-0500
TZNAME:EST
DTSTART:20251102T060000
END:STANDARD
BEGIN:DAYLIGHT
TZOFFSETFROM:-0500
TZOFFSETTO:-0400
TZNAME:EDT
DTSTART:20260308T070000
END:DAYLIGHT
BEGIN:STANDARD
TZOFFSETFROM:-0400
TZOFFSETTO:-0500
TZNAME:EST
DTSTART:20261101T060000
END:STANDARD
END:VTIMEZONE
BEGIN:VEVENT
DTSTART;TZID=America/Toronto:20241231T200000
DTEND;TZID=America/Toronto:20250101T040000
DTSTAMP:20260425T113418
CREATED:20241009T224405Z
LAST-MODIFIED:20250227T132814Z
UID:10000357-1735675200-1735704000@junctionunderground.ca
SUMMARY:New Year’s Eve 2025! 🕰️ Retro Video Dance Party
DESCRIPTION:A limited number of online tickets are available from our new ticketing application here. \nCelebrate New Year’s Eve 2025 in The Junction with a Retro Video Dance Party! 🕺✨ Dance to throwback beats from the 80s through the 2000s and ring in the New Year 💃🖤🎶 Don’t miss this unforgettable night—grab your crew\, hit the dance floor\, and toast to 2025 in style. 🥂  \n$10 at the door. Come early to secure your spot!
URL:https://junctionunderground.ca/event/new-years-eve-2025-dance/
LOCATION:Junction Underground\, 2907 Dundas St W\, Toronto\, ON\, M6P 1Z1
CATEGORIES:Dance Party
ATTACH;FMTTYPE=image/jpeg:https://junctionunderground.ca/wp-content/uploads/2024/10/2025-Junction-Retro-New-Years-sq.jpg
ORGANIZER;CN="Junction Underground":MAILTO:info@junctionunderground.ca
END:VEVENT
END:VCALENDAR