BEGIN:VCALENDAR
VERSION:2.0
PRODID:-//JUNCTION UNDERGROUND - ECPv6.15.14//NONSGML v1.0//EN
CALSCALE:GREGORIAN
METHOD:PUBLISH
X-ORIGINAL-URL:https://junctionunderground.ca
X-WR-CALDESC:Events for JUNCTION UNDERGROUND
REFRESH-INTERVAL;VALUE=DURATION:PT1H
X-Robots-Tag:noindex
X-PUBLISHED-TTL:PT1H
BEGIN:VTIMEZONE
TZID:America/Toronto
BEGIN:DAYLIGHT
TZOFFSETFROM:-0500
TZOFFSETTO:-0400
TZNAME:EDT
DTSTART:20240310T070000
END:DAYLIGHT
BEGIN:STANDARD
TZOFFSETFROM:-0400
TZOFFSETTO:-0500
TZNAME:EST
DTSTART:20241103T060000
END:STANDARD
BEGIN:DAYLIGHT
TZOFFSETFROM:-0500
TZOFFSETTO:-0400
TZNAME:EDT
DTSTART:20250309T070000
END:DAYLIGHT
BEGIN:STANDARD
TZOFFSETFROM:-0400
TZOFFSETTO:-0500
TZNAME:EST
DTSTART:20251102T060000
END:STANDARD
BEGIN:DAYLIGHT
TZOFFSETFROM:-0500
TZOFFSETTO:-0400
TZNAME:EDT
DTSTART:20260308T070000
END:DAYLIGHT
BEGIN:STANDARD
TZOFFSETFROM:-0400
TZOFFSETTO:-0500
TZNAME:EST
DTSTART:20261101T060000
END:STANDARD
END:VTIMEZONE
BEGIN:VEVENT
DTSTART;TZID=America/Toronto:20250124T200000
DTEND;TZID=America/Toronto:20250124T200000
DTSTAMP:20260425T112548
CREATED:20250120T231401Z
LAST-MODIFIED:20250121T142404Z
UID:10000415-1737748800-1737748800@junctionunderground.ca
SUMMARY:Retro Video Dance Party\, Jan 24
DESCRIPTION:🌙🖤 FRI JAN 24th FLASHBACK NO COVER CHARGE🖤 \nStep into the Underground and immerse yourself in the energy of retro-indie\, post-punk\, and industrial vibes. This Friday at 8 PM\, we’re bringing you a Retro Video Dance Party like no other\, at Junction Underground. \n🔥 What to Expect:\n🎥 Vintage video projections—dark\, moody\, and electric\n🎶 A curated soundtrack of post-punk anthems\, indie classics\, and industrial beats that defined underground music\n🕺 A space to move\, connect\, and let go \nIt’s a revival of the sounds and visuals that shaped the counterculture. Think Joy Division\, Bauhaus\, Siouxsie\, NIN\, and more. 🎛️ \n📅 When: Friday\, 8 PM\n📍 Where: Junction Underground\n🎟️ NO COVER \nHeavy sounds. Underground energy. Let’s embrace the shadows and dance the night away. 🖤
URL:https://junctionunderground.ca/event/retro-video-dance-party-jan-24/
CATEGORIES:Dance Party
ATTACH;FMTTYPE=image/jpeg:https://junctionunderground.ca/wp-content/uploads/2025/01/retro-video-dance-party-jan24.jpg
END:VEVENT
END:VCALENDAR