BEGIN:VCALENDAR
VERSION:2.0
PRODID:-//JUNCTION UNDERGROUND - ECPv6.15.14//NONSGML v1.0//EN
CALSCALE:GREGORIAN
METHOD:PUBLISH
X-WR-CALNAME:JUNCTION UNDERGROUND
X-ORIGINAL-URL:https://junctionunderground.ca
X-WR-CALDESC:Events for JUNCTION UNDERGROUND
REFRESH-INTERVAL;VALUE=DURATION:PT1H
X-Robots-Tag:noindex
X-PUBLISHED-TTL:PT1H
BEGIN:VTIMEZONE
TZID:America/Toronto
BEGIN:DAYLIGHT
TZOFFSETFROM:-0500
TZOFFSETTO:-0400
TZNAME:EDT
DTSTART:20230312T070000
END:DAYLIGHT
BEGIN:STANDARD
TZOFFSETFROM:-0400
TZOFFSETTO:-0500
TZNAME:EST
DTSTART:20231105T060000
END:STANDARD
BEGIN:DAYLIGHT
TZOFFSETFROM:-0500
TZOFFSETTO:-0400
TZNAME:EDT
DTSTART:20240310T070000
END:DAYLIGHT
BEGIN:STANDARD
TZOFFSETFROM:-0400
TZOFFSETTO:-0500
TZNAME:EST
DTSTART:20241103T060000
END:STANDARD
BEGIN:DAYLIGHT
TZOFFSETFROM:-0500
TZOFFSETTO:-0400
TZNAME:EDT
DTSTART:20250309T070000
END:DAYLIGHT
BEGIN:STANDARD
TZOFFSETFROM:-0400
TZOFFSETTO:-0500
TZNAME:EST
DTSTART:20251102T060000
END:STANDARD
END:VTIMEZONE
BEGIN:VEVENT
DTSTART;VALUE=DATE:20241025
DTEND;VALUE=DATE:20241027
DTSTAMP:20260425T130149
CREATED:20241021T190835Z
LAST-MODIFIED:20241022T042414Z
UID:10000372-1729839600-1729925999@junctionunderground.ca
SUMMARY:Private Party
DESCRIPTION:Closed for Private Party. \nBook Your Event at our 150-capacity venue!
URL:https://junctionunderground.ca/event/private-party-2/
LOCATION:Junction Underground\, 2907 Dundas St W\, Toronto\, ON\, M6P 1Z1
ORGANIZER;CN="Junction Underground":MAILTO:info@junctionunderground.ca
END:VEVENT
BEGIN:VEVENT
DTSTART;TZID=America/Toronto:20241024T190000
DTEND;TZID=America/Toronto:20241024T190000
DTSTAMP:20260425T130149
CREATED:20241021T192002Z
LAST-MODIFIED:20241021T192554Z
UID:10000373-1729796400-1729796400@junctionunderground.ca
SUMMARY:Junction Jazz Series - Latin Night!
DESCRIPTION:🎷 Get ready to spice up your Thursday night with a Latin jazz twist! 🎶 \n✨ On October 24\, join us at Junction Underground for an unforgettable night featuring Noah Abrahamse & The Mumbo Jumbo Combo. 🌟 Whether you’re a jazz lover or just looking for a night of incredible live music\, this Latin jazz fusion is going to bring the heat! 🔥 \n📍 2907 Dundas St W\n⏰ Show starts at 7 PM\n🎟️ Don’t miss out — grab your spot early! \nbring your dancing shoes for a night of rhythm\, soul\, and unforgettable vibes. 💃🕺
URL:https://junctionunderground.ca/event/junction-jazz-series-latin-night-5/
LOCATION:Junction Underground\, 2907 Dundas St W\, Toronto\, ON\, M6P 1Z1
ATTACH;FMTTYPE=image/jpeg:https://junctionunderground.ca/wp-content/uploads/2024/10/Screenshot-2024-10-21-at-2.54.15 PM.jpg
ORGANIZER;CN="Junction Underground":MAILTO:info@junctionunderground.ca
END:VEVENT
BEGIN:VEVENT
DTSTART;TZID=America/Toronto:20241019T210000
DTEND;TZID=America/Toronto:20241019T210000
DTSTAMP:20260425T130149
CREATED:20241017T164644Z
LAST-MODIFIED:20241017T174509Z
UID:10000371-1729371600-1729371600@junctionunderground.ca
SUMMARY:THIS SATURDAY is GATHERIN UF SOULZ
DESCRIPTION:Season 3\, Chapter 19 –\, Oct 19\, 2024\nLocation: The Junction Underground | 📍 2907 Dundas St W\, Toronto \n💫 Join us for a journey of soulful house beats and unmatched energy! This is more than a party – it’s a Gatherin Uf Soulz\, where music brings us together in rhythm and unity. 🎶 \nExpect:\n🔥 Deep\, soulful house vibes\n🔥 A community of music lovers\n🔥 Electric atmosphere in one of Toronto’s best underground venues \n✨ Whether you’re here to vibe\, dance\, or connect\, this night is going to be unforgettable! \n🕺 Doors Open at 9 PM\n🎟️ Mark your calendars and gather your crew!
URL:https://junctionunderground.ca/event/%f0%9f%9a%a8-this-saturday-is-gatherin-uf-soulz-%f0%9f%9a%a8/
LOCATION:Junction Underground\, 2907 Dundas St W\, Toronto\, ON\, M6P 1Z1
ATTACH;FMTTYPE=image/png:https://junctionunderground.ca/wp-content/uploads/2024/10/Screenshot-2024-10-17-at-12.40.54 PM.png
ORGANIZER;CN="Junction Underground":MAILTO:info@junctionunderground.ca
END:VEVENT
BEGIN:VEVENT
DTSTART;TZID=America/Toronto:20241018T203000
DTEND;TZID=America/Toronto:20241018T203000
DTSTAMP:20260425T130149
CREATED:20241017T164214Z
LAST-MODIFIED:20241017T173309Z
UID:10000360-1729283400-1729283400@junctionunderground.ca
SUMMARY:🎶 Cumbia Afro Latin Night is BACK! 🌟
DESCRIPTION:Friday\, October 18 | 📍 Junction Underground | Doors Open: 8:30 PM \n🔥 Get ready for a night with live performances by:\nLox Rutz 🎤\nOrquesta C4 🎺\nPlus a killer DJ set by Krissangelo to keep you dancing all night long! \nTickets:\n🎟️ $10 Early Entry (before 10 PM)\n💥 $15 After 10 PM \nCome experience the fusion of Afro-Latin sounds\, where Cumbia beats meet the rhythm of the night. 🌴💃🕺
URL:https://junctionunderground.ca/event/%f0%9f%8e%b6-cumbia-afro-latin-night-is-back-%f0%9f%8c%9f/
LOCATION:Junction Underground\, 2907 Dundas St W\, Toronto\, ON\, M6P 1Z1
ATTACH;FMTTYPE=image/jpeg:https://junctionunderground.ca/wp-content/uploads/2024/10/Screenshot-2024-10-17-at-12.32.39 PM.jpg
ORGANIZER;CN="Junction Underground":MAILTO:info@junctionunderground.ca
END:VEVENT
BEGIN:VEVENT
DTSTART;TZID=America/Toronto:20240907T180000
DTEND;TZID=America/Toronto:20240908T050000
DTSTAMP:20260425T130149
CREATED:20240829T044202Z
LAST-MODIFIED:20240917T143038Z
UID:10000333-1725732000-1725771600@junctionunderground.ca
SUMMARY:Toast New Beginnings at Junction Underground!
DESCRIPTION:See Event Photos! \nPrepare to shimmy and sip as we toast to the new co-ownership of the Junction Underground! Step into an evening of sultry beats\, dancing\, and the finest company this side of town underground. Don’t miss the chance to cut a rug and raise a glass in a speakeasy-style. \nRSVP on Facebook \n6 pm – 9 pm Happy Hour\, no cover.\n9 pm – 5 am $10  \nOur new KV2 Audio System has a clean sound.\n  \nStellar DJ Lineup!\n \nMARK BAKER   9 PM – 11 PM\n Mixcloud    Hearthis    Facebook  \n \nMark Baker\, now a fixture in Toronto’s underground music scene\, has mastered DJing and delivers dynamic performances. His music journey took a defining turn in 1999 when he discovered Toronto’s System Sound Bar\, igniting his passion for house and techno. He hones his slick selector capabilities and gives his all to every show mixing genres to diverse crowds. \n\n \nLEE LEE MISHI   11 PM – 1 AM\n Soundcloud    Instagram    FB   RA\n \nToronto-based DJ LeeLee Mishi is known for her smooth sets blending deep\, jazz-infused house with minimal techno. She has played alongside international talent and co-founded events like Cyclelogic and Architextures. A founding member of the Suma collective\, she has also performed at notable festivals such as Promise Cherry Beach and Burning Man. \n\n \nBURNIN’ VERNON   1 AM – 3 AM\n Mixcloud    Instagram     Hearthis\n \nBurnin’ Vernon\, a Toronto-based Techno DJ and host of Hot Spot Radio\, is celebrated for her groovy\, melodic techno sets. After years of performing as a musician and singer\, she transitioned to DJing in the early 2000s\, inspired by the rave scene she discovered in 1997. \n\n \nRYAN VETEZE   3 AM – 5 AM\n Soundcloud    Hearthis\n \nRyan Vetese is a house/techno DJ and an event producer. He founded ima·jin\, a company known for creating custom LED fixtures and décor that bring immediacy\, intimacy\, and interactivity to events. \n\n \nWhether you’re coming for the beats\, the drinks\, or the vibe\, this is the place to be with a friend or one to be. \n \nPhoto Gallery
URL:https://junctionunderground.ca/event/toast-new-beginnings/
LOCATION:Junction Underground\, 2907 Dundas St W\, Toronto\, ON\, M6P 1Z1
CATEGORIES:Electronic Music
ATTACH;FMTTYPE=image/jpeg:https://junctionunderground.ca/wp-content/uploads/2024/08/JU-Save-the-Date-Sept-7-2024.jpg
ORGANIZER;CN="Junction Underground":MAILTO:info@junctionunderground.ca
END:VEVENT
BEGIN:VEVENT
DTSTART;TZID=America/Toronto:20240901T200000
DTEND;TZID=America/Toronto:20240901T233000
DTSTAMP:20260425T130149
CREATED:20240829T192822Z
LAST-MODIFIED:20240829T192822Z
UID:10000334-1725220800-1725233400@junctionunderground.ca
SUMMARY:F*CK THE NUMBERS SUMMER FINALE
DESCRIPTION:LIVE MUSIC • VENDORS • GIVEAWAYS • NETWORKING • DRINKS \nToronto’s best underground music community. local underground talent \nSEPTEMBER 1\, 2024 • 8PM – 12AM \nFUCKTHENUMBERS.COM\nINSTAGRAM
URL:https://junctionunderground.ca/event/fck-the-numbers-summer-finale/
LOCATION:Junction Underground\, 2907 Dundas St W\, Toronto\, ON\, M6P 1Z1
ATTACH;FMTTYPE=image/jpeg:https://junctionunderground.ca/wp-content/uploads/2024/08/f-ck-the-numbers-end-of-summer.jpg
ORGANIZER;CN="Junction Underground":MAILTO:info@junctionunderground.ca
END:VEVENT
BEGIN:VEVENT
DTSTART;TZID=America/Toronto:20240831T210000
DTEND;TZID=America/Toronto:20240831T233000
DTSTAMP:20260425T130149
CREATED:20240829T193321Z
LAST-MODIFIED:20240829T215512Z
UID:10000335-1725138000-1725147000@junctionunderground.ca
SUMMARY:Island Groove Presents Boraa  - A Night of Deep Beats
DESCRIPTION:🌪️ This Saturday\, August 31st\, immerse yourself in the electrifying world of BORAA as he brings his signature sound to Junction Underground! Get ready to groove to the beats that defy the ordinary and elevate your night to a whole new level. 🚀 \nWith support from an incredible lineup of artists:\n • Diney Jayzz B2B Theodore\n • Veeque B2B Mind of Zen\n • Dom Nic \nBuy Tickets\n🎟️ Advance $25\n🎟️ At the Door: $30 \nThis night promises an unstoppable flow of energy\, beats\, and vibes from 9 PM till late. Join the movement\, and let the music take control. 🎧 \nDon’t miss out on this epic night where every beat tells a story. Get your tickets now and be part of the experience! 🎶 \nLISTEN TO BORAA \n \n \nAlain M · Mellow Prog Vibes 76 – Boraa (Ottawa\, Canada)\nFacebook | Instagram
URL:https://junctionunderground.ca/event/island-groove-presents-boraa/
LOCATION:Junction Underground\, 2907 Dundas St W\, Toronto\, ON\, M6P 1Z1
CATEGORIES:Electronic Music
ATTACH;FMTTYPE=image/jpeg:https://junctionunderground.ca/wp-content/uploads/2024/08/boraa.jpg
ORGANIZER;CN="Junction Underground":MAILTO:info@junctionunderground.ca
END:VEVENT
BEGIN:VEVENT
DTSTART;TZID=America/Toronto:20240830T200000
DTEND;TZID=America/Toronto:20240830T233000
DTSTAMP:20260425T130149
CREATED:20240829T194902Z
LAST-MODIFIED:20240829T194902Z
UID:10000337-1725048000-1725060600@junctionunderground.ca
SUMMARY:Unleash The Beast: Matthew Larabie\, Jackson Begley & Honduras Thompson
DESCRIPTION:🔥 Dive into the Underground with Damn Good Vibez this Friday🔥 \nGet ready to descend into the depths of musical ecstasy at Junction Underground this Friday\, August 30th at 8 PM! 🌌 \nPrepare yourself for an unforgettable night with the dynamic rhythms of Honduras Thompson\, the mesmerizing sounds of Matthew Larabie\, and the electrifying energy of Jackson Begley—all bringing you those Damn Good Vibes! 🎸🎷 \nThis is where the pulse of the underground beats strongest\, where the music is raw\, real\, and ready to move your soul. 🌊 \nBuy Tickets \n$10 Advance on Eventbrite| $15 Door. \nSecure your spot now because this night is set to be legendary. See you there—where the vibes are damn good and the music never stops. 🎶
URL:https://junctionunderground.ca/event/unleash-the-beast-matthew-larabie-jackson-begley-honduras-thompson/
LOCATION:Junction Underground\, 2907 Dundas St W\, Toronto\, ON\, M6P 1Z1
CATEGORIES:Bands & Solo Artists
ATTACH;FMTTYPE=image/jpeg:https://junctionunderground.ca/wp-content/uploads/2024/08/matthew-larabie-jackson-begley-thompson.jpg
ORGANIZER;CN="Junction Underground":MAILTO:info@junctionunderground.ca
END:VEVENT
BEGIN:VEVENT
DTSTART;TZID=America/Toronto:20240829T200000
DTEND;TZID=America/Toronto:20240829T230000
DTSTAMP:20260425T130149
CREATED:20240829T194422Z
LAST-MODIFIED:20240829T231356Z
UID:10000336-1724961600-1724972400@junctionunderground.ca
SUMMARY:Jazz and Poetry - EP Release by Chris Hercules!
DESCRIPTION:🎤 Jazz and Poetry this Thursday! \nJoin us for the EP Release of “Message Poetic” by Chris Hercules! \nExperience a night of powerful poetry\, Jazz  music\, and incredible vibes as Chris Hercules presents his latest work\, “Message Poetic.”  \nThis EP release party will feature an outstanding lineup of talented musicians: \n • Louis Botos Sr. on drums\n • Fabio Kutnowski on bass\n • Marco De La Cruz on keys\n • Yansi Alexavier on trumpet\n • James Griffith on saxophone\n • Chris Hercules himself on spoken word \nDon’t miss out on this unique event where poetry meets rhythm and soul. It’s a night that promises to be unforgettable! \nDoors open at 8 pm. \nBuy Tickets \n$15 tickets in advance or $20 at the door. \n \nchrisherculesmusic · I Got This
URL:https://junctionunderground.ca/event/jazz-and-poetry-ep-release-by-chris-hercules/
LOCATION:Junction Underground\, 2907 Dundas St W\, Toronto\, ON\, M6P 1Z1
CATEGORIES:Bands & Solo Artists
ATTACH;FMTTYPE=image/jpeg:https://junctionunderground.ca/wp-content/uploads/2024/08/massage-poetic.jpg
ORGANIZER;CN="Junction Underground":MAILTO:info@junctionunderground.ca
END:VEVENT
BEGIN:VEVENT
DTSTART;TZID=America/Toronto:20240823T200000
DTEND;TZID=America/Toronto:20240824T020000
DTSTAMP:20260425T130149
CREATED:20240821T034057Z
LAST-MODIFIED:20240821T034057Z
UID:10000330-1724443200-1724464800@junctionunderground.ca
SUMMARY:The Retro Video Dance Party With Dj SeLaVie
DESCRIPTION:No cover. Doors open at 8 pm.
URL:https://junctionunderground.ca/event/retro-video-dance-party-with-dj-selavie/
LOCATION:Junction Underground\, 2907 Dundas St W\, Toronto\, ON\, M6P 1Z1
CATEGORIES:Dance Party
ATTACH;FMTTYPE=image/webp:https://junctionunderground.ca/wp-content/uploads/2024/08/DJ-SeLaVie.webp
ORGANIZER;CN="Junction Underground":MAILTO:info@junctionunderground.ca
END:VEVENT
END:VCALENDAR