BEGIN:VCALENDAR
VERSION:2.0
PRODID:-//JUNCTION UNDERGROUND - ECPv6.15.14//NONSGML v1.0//EN
CALSCALE:GREGORIAN
METHOD:PUBLISH
X-ORIGINAL-URL:https://junctionunderground.ca
X-WR-CALDESC:Events for JUNCTION UNDERGROUND
REFRESH-INTERVAL;VALUE=DURATION:PT1H
X-Robots-Tag:noindex
X-PUBLISHED-TTL:PT1H
BEGIN:VTIMEZONE
TZID:America/Toronto
BEGIN:DAYLIGHT
TZOFFSETFROM:-0500
TZOFFSETTO:-0400
TZNAME:EDT
DTSTART:20250309T070000
END:DAYLIGHT
BEGIN:STANDARD
TZOFFSETFROM:-0400
TZOFFSETTO:-0500
TZNAME:EST
DTSTART:20251102T060000
END:STANDARD
BEGIN:DAYLIGHT
TZOFFSETFROM:-0500
TZOFFSETTO:-0400
TZNAME:EDT
DTSTART:20260308T070000
END:DAYLIGHT
BEGIN:STANDARD
TZOFFSETFROM:-0400
TZOFFSETTO:-0500
TZNAME:EST
DTSTART:20261101T060000
END:STANDARD
BEGIN:DAYLIGHT
TZOFFSETFROM:-0500
TZOFFSETTO:-0400
TZNAME:EDT
DTSTART:20270314T070000
END:DAYLIGHT
BEGIN:STANDARD
TZOFFSETFROM:-0400
TZOFFSETTO:-0500
TZNAME:EST
DTSTART:20271107T060000
END:STANDARD
END:VTIMEZONE
BEGIN:VEVENT
DTSTART;TZID=America/Toronto:20260515T200000
DTEND;TZID=America/Toronto:20260515T233000
DTSTAMP:20260424T144429
CREATED:20260422T190442Z
LAST-MODIFIED:20260422T190442Z
UID:10001216-1778875200-1778887800@junctionunderground.ca
SUMMARY:Three Imaginary Boys
DESCRIPTION:🖤🎶 LIVE- CURE TRIBUTE FRIDAY MAY 15th THIS ONE’S FOR YOU 🎶🖤 \nJunction Underground is bringing the mood\, the atmosphere\, and the nostalgia… \nIntroducing Three Imaginary Boys — a tribute to The Cure 🥀 \n📅 Friday\, May 15\n📍 Junction Underground \nStep into a night of haunting melodies\, dreamy guitar lines\, and all the iconic vibes you love. This is their debut performance\, and they’re coming in strong with a special guest set you won’t want to miss. \n⏰ Show at 9PM\n🚪 Doors at 8PM\n🎟️ $15 advance / $20 at the door\nTickets on Eventbrite \nIf you’ve ever had a Cure song hit you right in the soul… this night is calling your name. \nGrab your tickets on Eventbrite and come get lost in the music 🖤
URL:https://junctionunderground.ca/event/three-imaginary-boys/
LOCATION:Junction Underground\, 2907 Dundas St W\, Toronto\, ON\, M6P 1Z1
ATTACH;FMTTYPE=image/jpeg:https://junctionunderground.ca/wp-content/uploads/2026/04/three-imaginary-boys-junction-undergroun.webp
END:VEVENT
BEGIN:VEVENT
DTSTART;TZID=America/Toronto:20260524T193000
DTEND;TZID=America/Toronto:20260524T233000
DTSTAMP:20260424T144429
CREATED:20260422T191926Z
LAST-MODIFIED:20260422T192956Z
UID:10001217-1779651000-1779665400@junctionunderground.ca
SUMMARY:TRIS-X: HOMECOMING
DESCRIPTION:🔥 Sunday May 24th — THIS ONE’S GONNA GO OFF 🔥 \nTRIS-X: HOMECOMING is pulling up to Junction Underground and it’s about to be a full takeover. \n🎤 Featuring: HizenskyMusic\n📍 Junction Underground\n📅 Sunday\, May 24\, 2026 \nThis isn’t just a show… it’s a statement. Raw energy\, heavy vibes\, and a homecoming set that’s built different. If you know\, you know. \n⏰ Doors: 7:30PM\n🎶 Showtime: 8:30PM\n🎟️ Tickets: $20\nTicketscene\nToronto\, come outside and show love. This is the kind of night you don’t hear about later — you’re there for it.
URL:https://junctionunderground.ca/event/tris-x-homecoming/
LOCATION:Junction Underground\, 2907 Dundas St W\, Toronto\, ON\, M6P 1Z1
ATTACH;FMTTYPE=image/jpeg:https://junctionunderground.ca/wp-content/uploads/2026/04/tris-x-homecoming-junction-underground-s.webp
END:VEVENT
END:VCALENDAR